Workbook

Sheet 対戦表(第９節)
B1: 第２７回 ドリ－ムリ－グ
B2: 第９節（ 番匠免グランド ） | K2: 44514 | N2: =K2 -> 44514
B3: Ｂ 面 | G3: 試 合 時 間 | J3: Ｃ 面
B4: チーム名 | C4: 得点 | E4: 得点 | F4: チーム名 | H4: 0.0034722222 | I4: 0.024305556 | J4: チーム名 | K4: 得点 | M4: 得点 | N4: チーム名
B5: 北野 | D5: ＶＳ | F5: 立花 | G5: ① | J5: つつみ | L5: 交 | N5: 越谷ＦＣ
B6: 三郷 | C6: 主 | D6: 審判 | E6: 副 | F6: 越谷南 | G6: 0.375 | H6: ～ | I6: =G6+I$4 -> 0.39930556 | J6: 宮本 | K6: 主 | L6: 審判 | M6: 副 | N6: 戸ヶ崎
B7: 三郷 | D7: 交 | F7: 越谷南 | G7: ② | J7: 宮本 | L7: 交 | N7: 戸ヶ崎
B8: 西町 | C8: 主 | D8: 審判 | E8: 副 | F8: 南郷 | G8: =I6+H$4 -> 0.40277778 | H8: ～ | I8: =G8+I$4 -> 0.42708333 | J8: 大相模 | K8: 主 | L8: 審判 | M8: 副 | N8: 桜
B9: 西町 | D9: 交 | F9: 南郷 | G9: ③ | J9: 大相模 | L9: フ | N9: 桜
B10: 立花 | C10: 主 | D10: 審判 | E10: 副 | F10: 北野 | G10: =I8+H$4*1 -> 0.43055556 | H10: ～ | I10: =G10+I$4 -> 0.45486111 | J10: つつみ | K10: 主 | L10: 審判 | M10: 副 | N10: 越谷ＦＣ
B11: 北野 | D11: ＶＳ | F11: つつみ | G11: ④ | J11: 立花 | L11: 交 | N11: 越谷ＦＣ
B12: 桜 | C12: 主 | D12: 審判 | E12: 副 | F12: 西町 | G12: =I10+H$4 -> 0.45833333 | H12: ～ | I12: =G12+I$4 -> 0.48263889 | J12: 南郷 | K12: 主 | L12: 審判 | M12: 副 | N12: 大相模
B13: 三郷 | D13: 交 | F13: 戸ヶ崎 | G13: ⑤ | J13: 宮本 | L13: 交 | N13: 越谷南
B14: 北野 | C14: 主 | D14: 審判 | E14: 副 | F14: つつみ | G14: =I12+H$4*1 -> 0.48611111 | H14: ～ | I14: =G14+I$4 -> 0.51041667 | J14: 越谷ＦＣ | K14: 主 | L14: 審判 | M14: 副 | N14: 立花
B15: 西町 | D15: フ | F15: 桜 | G15: ⑥ | J15: 南郷 | L15: 交 | N15: 大相模
B16: 戸ヶ崎 | C16: 主 | D16: 審判 | E16: 副 | F16: 三郷 | G16: =I14+H$4 -> 0.51388889 | H16: ～ | I16: =G16+I$4 -> 0.53819444 | J16: 越谷南 | K16: 主 | L16: 審判 | M16: 副 | N16: 宮本
J18: 担当 事務局
B20: ＊天候・グランドの状態により中止する場合は、各チームへＡＭ６：３０ごろ連絡いたします。
B21: ＊車両は最小台数で、駐車は指示に従って、チーム毎に縦列駐車をお願いします。（チーム名・運転者を表示してください）

Sheet 対戦表(第８節)
B1: 第２７回 ドリ－ムリ－グ
B2: 第８節（ 番匠免グランド ） | K2: 44499 | N2: =K2 -> 44499
B3: Ｂ 面 | G3: 試 合 時 間 | J3: Ｃ 面
B4: チーム名 | C4: 得点 | E4: 得点 | F4: チーム名 | H4: 0.0034722222 | I4: 0.024305556 | J4: チーム名 | K4: 得点 | M4: 得点 | N4: チーム名
B5: 戸ヶ崎 | C5: 5 | D5: 交 | E5: 0 | F5: 桜井 | G5: ① | J5: 越谷南 | K5: 4 | L5: 交 | M5: 0 | N5: 南郷
B6: 越谷ＦＣ | C6: 主 | D6: 審判 | E6: 副 | F6: 三郷 | G6: 0.375 | H6: ～ | I6: =G6+I$4 -> 0.39930556 | J6: 西町 | K6: 主 | L6: 審判 | M6: 副 | N6: 北野
B7: 越谷ＦＣ | C7: 3 | D7: 交 | E7: 1 | F7: 三郷 | G7: ② | J7: 西町 | K7: 2 | L7: 交 | M7: 3 | N7: 北野
B8: 戸ヶ崎 | C8: 主 | D8: 審判 | E8: 副 | F8: 桜井 | G8: =I6+H$4 -> 0.40277778 | H8: ～ | I8: =G8+I$4 -> 0.42708333 | J8: 越谷南 | K8: 主 | L8: 審判 | M8: 副 | N8: 南郷
B9: 戸ヶ崎 | C9: 4 | D9: 交 | E9: 0 | F9: 南郷 | G9: ③ | J9: 越谷南 | K9: 9 | L9: 交 | M9: 0 | N9: 桜井
B10: 北野 | C10: 主 | D10: 審判 | E10: 副 | F10: 越谷ＦＣ | G10: =I8+H$4*1 -> 0.43055556 | H10: ～ | I10: =G10+I$4 -> 0.45486111 | J10: 三郷 | K10: 主 | L10: 審判 | M10: 副 | N10: 西町
B11: 越谷ＦＣ | C11: 2 | D11: 交 | E11: 1 | F11: 北野 | G11: ④ | J11: 西町 | K11: 2 | L11: 交 | M11: 0 | N11: 三郷
B12: 南郷 | C12: 主 | D12: 審判 | E12: 副 | F12: 戸ヶ崎 | G12: =I10+H$4 -> 0.45833333 | H12: ～ | I12: =G12+I$4 -> 0.48263889 | J12: 桜井 | K12: 主 | L12: 審判 | M12: 副 | N12: 越谷南
B13: 戸ヶ崎 | C13: 4 | D13: フ | E13: 0 | F13: 越谷南 | G13: ⑤ | J13: 南郷 | K13: 7 | L13: フ | M13: 2 | N13: 桜井
B14: 越谷ＦＣ | C14: 主 | D14: 審判 | E14: 副 | F14: 西町 | G14: =I12+H$4*1 -> 0.48611111 | H14: ～ | I14: =G14+I$4 -> 0.51041667 | J14: 北野 | K14: 主 | L14: 審判 | M14: 副 | N14: 三郷
B15: 越谷ＦＣ | C15: 2 | D15: フ | E15: 0 | F15: 西町 | G15: ⑥ | J15: 三郷 | K15: 3 | L15: フ | M15: 2 | N15: 北野
B16: 戸ヶ崎 | C16: 主 | D16: 審判 | E16: 副 | F16: 越谷南 | G16: =I14+H$4 -> 0.51388889 | H16: ～ | I16: =G16+I$4 -> 0.53819444 | J16: 桜井 | K16: 主 | L16: 審判 | M16: 副 | N16: 南郷
J18: 担当 事務局
B20: ＊天候・グランドの状態により中止する場合は、各チームへＡＭ６：３０ごろ連絡いたします。
B21: ＊車両は最小台数で、駐車は指示に従って、チーム毎に縦列駐車をお願いします。（チーム名・運転者を表示してください）

Sheet 対戦表(第7節)
B1: 第２７回 ドリ－ムリ－グ
B2: 第７節（ 番匠免グランド ） | K2: 44492 | N2: =K2 -> 44492
B3: Ｂ 面 | G3: 試 合 時 間 | J3: Ｃ 面
B4: チーム名 | C4: 得点 | E4: 得点 | F4: チーム名 | H4: 0.0034722222 | I4: 0.024305556 | J4: チーム名 | K4: 得点 | M4: 得点 | N4: チーム名
D5: ＶＳ | G5: ① | J5: 草加東 | K5: 8 | L5: ＶＳ | M5: 0 | N5: 大相模
C6: 主 | D6: 審判 | E6: 副 | G6: 0.375 | H6: ～ | I6: =G6+I$4 -> 0.39930556 | J6: 西町 | K6: 主 | L6: 審判 | M6: 副 | N6: 越谷南
D7: ＶＳ | G7: ② | J7: 西町 | K7: 3 | L7: フ | M7: 0 | N7: 越谷南
C8: 主 | D8: 審判 | E8: 副 | G8: =I6+H$4 -> 0.40277778 | H8: ～ | I8: =G8+I$4 -> 0.42708333 | J8: 草加東 | K8: 主 | L8: 審判 | M8: 副 | N8: 宮本
D9: ＶＳ | G9: ③ | J9: 草加東 | K9: 4 | L9: フ | M9: 0 | N9: 宮本
C10: 主 | D10: 審判 | E10: 副 | G10: =I8+H$4*1 -> 0.43055556 | H10: ～ | I10: =G10+I$4 -> 0.45486111 | J10: 越谷南 | K10: 主 | L10: 審判 | M10: 副 | N10: 大相模
D11: ＶＳ | G11: ④ | J11: 西町 | K11: 6 | L11: フ | M11: 1 | N11: 大相模
C12: 主 | D12: 審判 | E12: 副 | G12: =I10+H$4 -> 0.45833333 | H12: ～ | I12: =G12+I$4 -> 0.48263889 | J12: 宮本 | K12: 主 | L12: 審判 | M12: 副 | N12: 草加東
D13: ＶＳ | G13: ⑤ | J13: 宮本 | K13: 1 | L13: フ | M13: 1 | N13: 越谷南
C14: 主 | D14: 審判 | E14: 副 | G14: =I12+H$4*1 -> 0.48611111 | H14: ～ | I14: =G14+I$4 -> 0.51041667 | J14: 大相模 | K14: 主 | L14: 審判 | M14: 副 | N14: 西町
D15: ＶＳ | G15: ⑥
C16: 主 | D16: 審判 | E16: 副 | G16: =I14+H$4*1 -> 0.51388889 | H16: ～ | I16: =G16+I$4 -> 0.53819444 | K16: 主 | L16: 審判 | M16: 副
D17: ＶＳ | G17: ⑦
C18: 主 | D18: 審判 | E18: 副 | G18: =I16+H$4*1 -> 0.54166667 | H18: ～ | I18: =G18+I$4 -> 0.56597222 | K18: 主 | L18: 審判 | M18: 副
J20: 担当 事務局
B22: ＊天候・グランドの状態により中止する場合は、各チームへＡＭ６：１５ごろ連絡いたします。
B23: ＊車両は最小台数で、駐車は指示に従って、チーム毎に縦列駐車をお願いします。（チーム名・運転者を表示してください）

Sheet 対戦表(第6節)
B1: 第２７回 ドリ－ムリ－グ
B2: 第６節（ 番匠免グランド ） | K2: 44472 | N2: =K2 -> 44472
B3: Ｂ 面 | G3: 試 合 時 間 | J3: Ｃ 面
B4: チーム名 | C4: 得点 | E4: 得点 | F4: チーム名 | H4: 0.0034722222 | I4: 0.024305556 | J4: チーム名 | K4: 得点 | M4: 得点 | N4: チーム名
B5: 西町 | C5: 1 | D5: ＶＳ | E5: 2 | F5: ホワイト | G5: ① | J5: 立花 | L5: フ | N5: 三郷
B6: 高砂 | C6: 主 | D6: 審判 | E6: 副 | F6: 戸ヶ崎 | G6: 0.35416667 | H6: ～ | I6: =G6+I$4 -> 0.37847222 | J6: 越谷PC | K6: 主 | L6: 審判 | M6: 副 | N6: 三郷
B7: 高砂 | C7: 1 | D7: ＶＳ | E7: 0 | F7: 戸ヶ崎 | G7: ② | J7: 三郷 | K7: 2 | L7: ＶＳ | M7: 1 | N7: 越谷PC
B8: 西町 | C8: 主 | D8: 審判 | E8: 副 | F8: ホワイト | G8: =I6+H$4 -> 0.38194444 | H8: ～ | I8: =G8+I$4 -> 0.40625 | J8: 立花 | K8: 主 | L8: 審判 | M8: 副 | N8: 当該1名ずつ
B9: 西町 | C9: 7 | D9: ＶＳ | E9: 0 | F9: 桜 | G9: ③ | J9: 立花 | K9: 1 | L9: ＶＳ | M9: 3 | N9: 宮本
B10: 大相模 | C10: 主 | D10: 審判 | E10: 副 | F10: 高砂 | G10: =I8+H$4*1 -> 0.40972222 | H10: ～ | I10: =G10+I$4 -> 0.43402778 | J10: つつみ | K10: 主 | L10: 審判 | M10: 副 | N10: 越谷PC
B11: ホワイト | C11: 0 | D11: ＶＳ | E11: 0 | F11: 大相模 | G11: ④ | J11: 戸ヶ崎 | L11: 交 | N11: つつみ
B12: 越谷南 | C12: 主 | D12: 審判 | E12: 副 | F12: 西町 | G12: =I10+H$4 -> 0.4375 | H12: ～ | I12: =G12+I$4 -> 0.46180556 | J12: 桜井 | K12: 主 | L12: 審判 | M12: 副 | N12: 立花
B13: 高砂 | C13: 2 | D13: ＶＳ | E13: 0 | F13: 越谷南 | G13: ⑤ | J13: 越谷PC | K13: 7 | L13: ＶＳ | M13: 0 | N13: 桜井
B14: ホワイト | C14: 主 | D14: 審判 | E14: 副 | F14: 桜 | G14: =I12+H$4*1 -> 0.46527778 | H14: ～ | I14: =G14+I$4 -> 0.48958333 | J14: 戸ヶ崎 | K14: 主 | L14: 審判 | M14: 副 | N14: 宮本
B15: 戸ヶ崎 | D15: 交 | F15: 宮本 | G15: ⑥ | J15: 三郷 | L15: 交 | N15: 大相模
B16: 当該 | C16: 主 | D16: 審判 | E16: 副 | F16: 当該 | G16: =I14+H$4*1 -> 0.49305556 | H16: ～ | I16: =G16+I$4 -> 0.51736111 | J16: 当該 | K16: 主 | L16: 審判 | M16: 副 | N16: 当該
B17: つつみ | D17: 交 | F17: 越谷南 | G17: ⑦ | J17: 桜 | L17: 交 | N17: 桜井
B18: 当該 | C18: 主 | D18: 審判 | E18: 副 | F18: 当該 | G18: =I16+H$4*1 -> 0.52083333 | H18: ～ | I18: =G18+I$4 -> 0.54513889 | J18: 当該 | K18: 主 | L18: 審判 | M18: 副 | N18: 当該
J20: 担当 事務局 (三郷FC）
B22: ＊天候・グランドの状態により中止する場合は、各チームへＡＭ６：１５ごろ連絡いたします。
B23: ＊車両は最小台数で、駐車は指示に従って、チーム毎に縦列駐車をお願いします。（チーム名・運転者を表示してください）

Sheet 対戦表(第5節)
B1: 第２７回 ドリ－ムリ－グ
B2: 第５節（ 番匠免グランド ） | K2: 44402 | N2: =K2 -> 44402
B3: Ｂ 面 | G3: 試 合 時 間 | J3: Ｃ 面
B4: チーム名 | C4: 得点 | E4: 得点 | F4: チーム名 | H4: 0.0034722222 | I4: 0.024305556 | J4: チーム名 | K4: 得点 | M4: 得点 | N4: チーム名
B5: 大相模 | C5: 4 | D5: ＶＳ | E5: 0 | F5: 桜 | G5: ① | J5: 戸ヶ崎 | K5: 0 | L5: ＶＳ | M5: 1 | N5: 西町
B6: 三郷 | C6: 主 | D6: 審判 | E6: 副 | F6: 立花 | G6: 0.35416667 | H6: ～ | I6: =G6+I$4 -> 0.37847222 | J6: 桜井 | K6: 主 | L6: 審判 | M6: 副 | N6: 北野
B7: 三郷 | C7: 7 | D7: ＶＳ | E7: 1 | F7: 立花 | G7: ② | J7: 桜井 | K7: 0 | L7: ＶＳ | M7: 4 | N7: 北野
B8: 大相模 | C8: 主 | D8: 審判 | E8: 副 | F8: 桜 | G8: =I6+H$4 -> 0.38194444 | H8: ～ | I8: =G8+I$4 -> 0.40625 | J8: 越谷FC | K8: 主 | L8: 審判 | M8: 副 | N8: 西町
B9: 越谷南 | C9: 0 | D9: ＶＳ | E9: 2 | F9: 大相模 | G9: ③ | J9: 越谷FC | K9: 6 | L9: ＶＳ | M9: 0 | N9: 西町
B10: 北野 | C10: 主 | D10: 審判 | E10: 副 | F10: 南郷 | G10: =I8+H$4*1 -> 0.40972222 | H10: ～ | I10: =G10+I$4 -> 0.43402778 | J10: 立花 | K10: 主 | L10: 審判 | M10: 副 | N10: つつみ
B11: 北野 | C11: 3 | D11: ＶＳ | E11: 0 | F11: 南郷 | G11: ④ | J11: 立花 | K11: 0 | L11: ＶＳ | M11: 2 | N11: つつみ
B12: 越谷南 | C12: 主 | D12: 審判 | E12: 副 | F12: 大相模 | G12: =I10+H$4 -> 0.4375 | H12: ～ | I12: =G12+I$4 -> 0.46180556 | J12: 西町 | K12: 主 | L12: 審判 | M12: 副 | N12: 戸ヶ崎
B13: 三郷 | C13: 1 | D13: フ | E13: 0 | F13: 戸ヶ崎 | G13: ⑤ | J13: 桜 | K13: 1 | L13: フ | M13: 1 | N13: 越谷南
B14: つつみ | C14: 主 | D14: 審判 | E14: 副 | F14: 越谷FC | G14: =I12+H$4*1 -> 0.46527778 | H14: ～ | I14: =G14+I$4 -> 0.48958333 | J14: 南郷 | K14: 主 | L14: 審判 | M14: 副 | N14: 桜井
B15: つつみ | C15: 1 | D15: フ | E15: 0 | F15: 越谷FC | G15: ⑥ | J15: 南郷 | K15: 3 | L15: ＶＳ | M15: 1 | N15: 桜井
B16: 戸ヶ崎 | C16: 主 | D16: 審判 | E16: 副 | F16: 三郷 | G16: =I14+H$4 -> 0.49305556 | H16: ～ | I16: =G16+I$4 -> 0.51736111 | J16: 桜 | K16: 主 | L16: 審判 | M16: 副 | N16: 越谷南
J18: 担当 事務局 (三郷FC）
B20: ＊天候・グランドの状態により中止する場合は、各チームへＡＭ６：１５ごろ連絡いたします。
B21: ＊車両は最小台数で、駐車は指示に従って、チーム毎に縦列駐車をお願いします。（チーム名・運転者を表示してください）

Sheet 対戦表(第4節)
B1: 第２７回 ドリ－ムリ－グ
B2: 第４節（ 番匠免グランド ） | K2: 44345 | N2: =K2 -> 44345
B3: Ｂ 面 | G3: 試 合 時 間 | J3: Ｃ 面
B4: チーム名 | C4: 得点 | E4: 得点 | F4: チーム名 | H4: 0.0034722222 | I4: 0.024305556 | J4: チーム名 | K4: 得点 | M4: 得点 | N4: チーム名
B5: 越谷FC | C5: 2 | D5: ＶＳ | E5: 0 | F5: ホワイト | G5: ① | J5: 彦成 | K5: 0 | L5: ＶＳ | M5: 0 | N5: 越谷PC
B6: 戸ヶ崎 | C6: 主 | D6: 審判 | E6: 副 | F6: 越谷南 | G6: 0.375 | H6: ～ | I6: =G6+I$4 -> 0.39930556 | J6: 北野 | K6: 主 | L6: 審判 | M6: 副 | N6: 宮本
B7: 戸ヶ崎 | C7: 0 | D7: ＶＳ | E7: 3 | F7: 越谷南 | G7: ② | J7: 北野 | K7: 1 | L7: ＶＳ | M7: 0 | N7: 宮本
B8: ホワイト | C8: 主 | D8: 審判 | E8: 副 | F8: 桜 | G8: =I6+H$4 -> 0.40277778 | H8: ～ | I8: =G8+I$4 -> 0.42708333 | J8: 彦成 | K8: 主 | L8: 審判 | M8: 副 | N8: 三郷
B9: ホワイト | C9: 2 | D9: ＶＳ | E9: 0 | F9: 桜 | G9: ③ | J9: 三郷 | K9: 0 | L9: ＶＳ | M9: 1 | N9: つつみ
B10: 越谷南 | C10: 主 | D10: 審判 | E10: 副 | F10: 越谷FC | G10: =I8+H$4*1 -> 0.43055556 | H10: ～ | I10: =G10+I$4 -> 0.45486111 | J10: 宮本 | K10: 主 | L10: 審判 | M10: 副 | N10: 南郷
B11: 越谷FC | C11: 3 | D11: ＶＳ | E11: 0 | F11: 越谷南 | G11: ④ | J11: 彦成 | K11: 0 | L11: ＶＳ | M11: 0 | N11: 南郷
B12: 越谷PC | C12: 主 | D12: 審判 | E12: 副 | F12: ホワイト | G12: =I10+H$4 -> 0.45833333 | H12: ～ | I12: =G12+I$4 -> 0.48263889 | J12: 三郷 | K12: 主 | L12: 審判 | M12: 副 | N12: つつみ
B13: 戸ヶ崎 | C13: 1 | D13: フ | E13: 0 | F13: 桜 | G13: ⑤ | J13: 越谷PC | K13: 2 | L13: ＶＳ | M13: 1 | N13: つつみ
B14: 越谷FC | C14: 主 | D14: 審判 | E14: 副 | F14: 北野 | G14: =I12+H$4*1 -> 0.48611111 | H14: ～ | I14: =G14+I$4 -> 0.51041667 | J14: 南郷 | K14: 主 | L14: 審判 | M14: 副 | N14: 彦成
B15: 北野 | C15: 2 | D15: ＶＳ | E15: 0 | F15: 三郷 | G15: ⑥ | J15: 宮本 | K15: 6 | L15: ＶＳ | M15: 0 | N15: 南郷
B16: 桜 | C16: 主 | D16: 審判 | E16: 副 | F16: 戸ヶ崎 | G16: =I14+H$4 -> 0.51388889 | H16: ～ | I16: =G16+I$4 -> 0.53819444 | J16: つつみ | K16: 主 | L16: 審判 | M16: 副 | N16: 越谷PC
J18: 担当 事務局（三郷FC）
B20: ＊天候・グランドの状態により中止する場合は、各チームへＡＭ６：３０ごろ連絡いたします。
B21: ＊車両は最小台数で、駐車は指示に従って、チーム毎に縦列駐車をお願いします。（チーム名・運転者を表示してください）

Sheet 対戦表(第3節)
B1: 第２７回 ドリ－ムリ－グ
B2: 第３節（ 番匠免グランド ） | K2: 44331 | N2: =K2 -> 44331
B3: Ｂ 面 | G3: 試 合 時 間 | J3: Ｃ 面
B4: チーム名 | C4: 得点 | E4: 得点 | F4: チーム名 | H4: 0.0034722222 | I4: 0.024305556 | J4: チーム名 | K4: 得点 | M4: 得点 | N4: チーム名
B5: 桜井 | C5: 0 | D5: ＶＳ | E5: 1 | F5: 三郷 | G5: ① | J5: 高砂 | K5: 5 | L5: ＶＳ | M5: 1 | N5: 桜
B6: 宮本 | C6: 主 | D6: 審判 | E6: 副 | F6: つつみ | G6: 0.375 | H6: ～ | I6: =G6+I$4 -> 0.39930556 | J6: 大相模 | K6: 主 | L6: 審判 | M6: 副 | N6: 西町
B7: つつみ | C7: 2 | D7: ＶＳ | E7: 2 | F7: 宮本 | G7: ② | J7: 西町 | K7: 1 | L7: ＶＳ | M7: 1 | N7: 大相模
B8: 立花 | C8: 主 | D8: 審判 | E8: 副 | F8: 南郷 | G8: =I6+H$4 -> 0.40277778 | H8: ～ | I8: =G8+I$4 -> 0.42708333 | J8: 桜 | K8: 主 | L8: 審判 | M8: 副 | N8: 高砂
B9: 立花 | C9: 0 | D9: ＶＳ | E9: 0 | F9: 南郷 | G9: ③ | J9: 越谷南 | K9: 5 | L9: ＶＳ | M9: 0 | N9: 桜
B10: 三郷 | C10: 主 | D10: 審判 | E10: 副 | F10: 彦成 | G10: =I8+H$4*1 -> 0.43055556 | H10: ～ | I10: =G10+I$4 -> 0.45486111 | J10: 桜井 | K10: 主 | L10: 審判 | M10: 副 | N10: 宮本
B11: 三郷 | C11: 3 | D11: ＶＳ | E11: 0 | F11: 彦成 | G11: ④ | J11: 桜井 | K11: 0 | L11: ＶＳ | M11: 4 | N11: 宮本
B12: 南郷 | C12: 主 | D12: 審判 | E12: 副 | F12: 立花 | G12: =I10+H$4 -> 0.45833333 | H12: ～ | I12: =G12+I$4 -> 0.48263889 | J12: 越谷南 | K12: 主 | L12: 審判 | M12: 副 | N12: 桜
B13: 高砂 | C13: 2 | D13: ＶＳ | E13: 1 | F13: 大相模 | G13: ⑤ | J13: 西町 | K13: 5 | L13: ＶＳ | M13: 0 | N13: 越谷南
B14: つつみ | C14: 主 | D14: 審判 | E14: 副 | F14: 三郷 | G14: =I12+H$4*1 -> 0.48611111 | H14: ～ | I14: =G14+I$4 -> 0.51041667 | J14: 彦成 | K14: 主 | L14: 審判 | M14: 副 | N14: 桜井
B15: つつみ | C15: 6 | D15: ＶＳ | E15: 0 | F15: 南郷 | G15: ⑥ | J15: 立花 | K15: 1 | L15: ＶＳ | M15: 6 | N15: 彦成
B16: 高砂 | C16: 主 | D16: 審判 | E16: 副 | F16: 大相模 | G16: =I14+H$4 -> 0.51388889 | H16: ～ | I16: =G16+I$4 -> 0.53819444 | J16: 西町 | K16: 主 | L16: 審判 | M16: 副 | N16: 越谷南
J18: 担当 事務局 (三郷FC）
B20: ＊天候・グランドの状態により中止する場合は、各チームへＡＭ６：３０ごろ連絡いたします。
B21: ＊車両は最小台数で、駐車は指示に従って、チーム毎に縦列駐車をお願いします。（チーム名・運転者を表示してください）

Sheet 対戦表(第２節)
B1: 第２７回 ドリ－ムリ－グ
B2: 第２節（ 番匠免グランド ） | K2: 44317 | N2: =K2 -> 44317
B3: Ｂ 面 | G3: 試 合 時 間 | J3: Ｃ 面
B4: チーム名 | C4: 得点 | E4: 得点 | F4: チーム名 | H4: 0.0034722222 | I4: 0.024305556 | J4: チーム名 | K4: 得点 | M4: 得点 | N4: チーム名
B5: 立花 | C5: 7 | D5: ＶＳ | E5: 0 | F5: 桜井 | G5: ① | J5: 越谷PC | K5: 3 | L5: ＶＳ | M5: 2 | N5: 北野
B6: 草加東 | C6: 主 | D6: 審判 | E6: 副 | F6: 西町 | G6: 0.375 | H6: ～ | I6: =G6+I$4 -> 0.39930556 | J6: 越谷ＦＣ | K6: 主 | L6: 審判 | M6: 副 | N6: 戸ヶ崎
B7: 草加東 | C7: 4 | D7: ＶＳ | E7: 0 | F7: 西町 | G7: ② | J7: 越谷ＦＣ | K7: 3 | L7: ＶＳ | M7: 0 | N7: 戸ヶ崎
B8: 立花 | C8: 主 | D8: 審判 | E8: 副 | F8: 桜井 | G8: =I6+H$4 -> 0.40277778 | H8: ～ | I8: =G8+I$4 -> 0.42708333 | J8: 北野 | K8: 主 | L8: 審判 | M8: 副 | N8: 越谷PC
B9: つつみ | C9: 2 | D9: ＶＳ | E9: 4 | F9: 彦成 | G9: ③ | J9: 立花 | K9: 1 | L9: ＶＳ | M9: 1 | N9: 越谷PC
B10: ホワイト | C10: 主 | D10: 審判 | E10: 副 | F10: 草加東 | G10: =I8+H$4*1 -> 0.43055556 | H10: ～ | I10: =G10+I$4 -> 0.45486111 | J10: 西町 | K10: 主 | L10: 審判 | M10: 副 | N10: 高砂
B11: 草加東 | C11: 3 | D11: ＶＳ | E11: 0 | F11: ホワイト | G11: ④ | J11: 西町 | K11: 3 | L11: ＶＳ | M11: 1 | N11: 高砂
B12: つつみ | C12: 主 | D12: 審判 | E12: 副 | F12: 彦成 | G12: =I10+H$4 -> 0.45833333 | H12: ～ | I12: =G12+I$4 -> 0.48263889 | J12: 越谷PC | K12: 主 | L12: 審判 | M12: 副 | N12: 立花
B13: 桜井 | C13: 0 | D13: ＶＳ | E13: 10 | F13: つつみ | G13: ⑤ | J13: 北野 | K13: 5 | L13: ＶＳ | M13: 0 | N13: 彦成
B14: 高砂 | C14: 主 | D14: 審判 | E14: 副 | F14: 越谷ＦＣ | G14: =I12+H$4*1 -> 0.48611111 | H14: ～ | I14: =G14+I$4 -> 0.51041667 | J14: 戸ヶ崎 | K14: 主 | L14: 審判 | M14: 副 | N14: ホワイト
B15: 越谷ＦＣ | C15: 4 | D15: ＶＳ | E15: 0 | F15: 高砂 | G15: ⑥ | J15: 戸ヶ崎 | K15: 0 | L15: ＶＳ | M15: 1 | N15: ホワイト
B16: 桜井 | C16: 主 | D16: 審判 | E16: 副 | F16: つつみ | G16: =I14+H$4 -> 0.51388889 | H16: ～ | I16: =G16+I$4 -> 0.53819444 | J16: 彦成 | K16: 主 | L16: 審判 | M16: 副 | N16: 北野
J18: 担当 事務局
B20: ＊天候・グランドの状態により中止する場合は、各チームへＡＭ６：３０ごろ連絡いたします。
B21: ＊車両は最小台数で、駐車は指示に従って、チーム毎に縦列駐車をお願いします。（チーム名・運転者を表示してください）

Sheet 対戦表(第１節)
B1: 第２７回 ドリ－ムリ－グ
B2: 第１節（ 番匠免グランド ） | K2: 44303 | N2: =K2 -> 44303
B3: Ｂ 面 | G3: 試 合 時 間 | J3: Ｃ 面
B4: チーム名 | C4: 得点 | E4: 得点 | F4: チーム名 | H4: 0.0034722222 | I4: 0.024305556 | J4: チーム名 | K4: 得点 | M4: 得点 | N4: チーム名
B5: 草加東 | C5: 5 | D5: ＶＳ | E5: 0 | F5: 越谷南 | G5: ① | J5: 高砂 | K5: 2 | L5: ＶＳ | M5: 8 | N5: ホワイト
B6: 戸ヶ崎 | C6: 主 | D6: 審判 | E6: 副 | F6: 桜 | G6: 0.375 | H6: ～ | I6: =G6+I$4 -> 0.39930556 | J6: 大相模 | K6: 主 | L6: 審判 | M6: 副 | N6: 越谷ＦＣ
B7: 越谷PC | C7: 3 | D7: ＶＳ | E7: 1 | F7: 南郷 | G7: ② | J7: 宮本 | K7: 0 | L7: ＶＳ | M7: 5 | N7: 三郷
B8: 草加東 | C8: 主 | D8: 審判 | E8: 副 | F8: 越谷南 | G8: =I6+H$4 -> 0.40277778 | H8: ～ | I8: =G8+I$4 -> 0.42708333 | J8: ホワイト | K8: 主 | L8: 審判 | M8: 副 | N8: 高砂
B9: 戸ヶ崎 | C9: 1 | D9: ＶＳ | E9: 1 | F9: 桜 | G9: ③ | J9: 大相模 | K9: 0 | L9: ＶＳ | M9: 6 | N9: 越谷FC
B10: 南郷 | C10: 主 | D10: 審判 | E10: 副 | F10: 越谷PC | G10: =I8+H$4*1 -> 0.43055556 | H10: ～ | I10: =G10+I$4 -> 0.45486111 | J10: 宮本 | K10: 主 | L10: 審判 | M10: 副 | N10: 三郷
B11: 草加東 | C11: 5 | D11: ＶＳ | E11: 0 | F11: 高砂 | G11: ④ | J11: 越谷南 | K11: 1 | L11: ＶＳ | M11: 7 | N11: ホワイト
B12: 桜 | C12: 主 | D12: 審判 | E12: 副 | F12: 戸ヶ崎 | G12: =I10+H$4 -> 0.45833333 | H12: ～ | I12: =G12+I$4 -> 0.48263889 | J12: 越谷ＦＣ | K12: 主 | L12: 審判 | M12: 副 | N12: 大相模
B13: 越谷PC | C13: 4 | D13: ＶＳ | E13: 1 | F13: 宮本 | G13: ⑤ | J13: 三郷 | K13: 2 | L13: ＶＳ | M13: 0 | N13: 南郷
B14: 高砂 | C14: 主 | D14: 審判 | E14: 副 | F14: 草加東 | G14: =I12+H$4*1 -> 0.48611111 | H14: ～ | I14: =G14+I$4 -> 0.51041667 | J14: 越谷南 | K14: 主 | L14: 審判 | M14: 副 | N14: ホワイト
B15: 戸ヶ崎 | C15: 2 | D15: ＶＳ | E15: 2 | F15: 大相模 | G15: ⑥ | J15: 桜 | K15: 0 | L15: ＶＳ | M15: 8 | N15: 越谷FC
B16: 越谷PC | C16: 主 | D16: 審判 | E16: 副 | F16: 宮本 | G16: =I14+H$4 -> 0.51388889 | H16: ～ | I16: =G16+I$4 -> 0.53819444 | J16: 三郷 | K16: 主 | L16: 審判 | M16: 副 | N16: 南郷
J18: 担当 事務局
B20: ＊天候・グランドの状態により中止する場合は、各チームへＡＭ６：３０ごろ連絡いたします。
B21: ＊車両は最小台数で、駐車は指示に従って、チーム毎に縦列駐車をお願いします。（チーム名・運転者を表示してください）

Sheet 21年度日程表
A1: 2021年度 第27回ドリーム･リーグ杯
A3: ブロック | D3: A | G3: B | J3: C | M3: D | P3: E | S3: F | V3: G | Y3: H | AB3: I | AE3: ブロック
A4: a | D4: 草加東 | G4: 越谷FC | J4: 高砂 | M4: 西町 | P4: ホワイト | S4: 戸ヶ崎 | V4: 桜 | Y4: 大相模 | AB4: 越谷南 | AE4: a
A5: A | D5: #VALUE! | J5: １節 | M5: ２節 | P5: ２節 | S5: 桜小学校 | V5: 桜小学校 | Y5: ６節 | AB5: １節 | AE5: A
A6: 草加東 | D6: ＊ | E6: ＊ | F6: ＊ | J6: 44303 | M6: 44317 | P6: 44317 | S6: 44523 | V6: 44523 | Y6: 44492 | AB6: 44303 | AE6: 草加東
A7: B | D7: =G5 -> 0 | G7: #VALUE! | J7: ２節 | M7: ５節 | P7: ４節 | S7: ２節 | V7: １節 | Y7: １節 | AB7: ４節 | AE7: B
A8: 越谷FC | D8: =G6 -> 0 | G8: ＊ | H8: ＊ | I8: ＊ | J8: 44317 | M8: 44402 | P8: 44345 | S8: 44317 | V8: 44303 | Y8: 44303 | AB8: 44345 | AE8: 越谷FC
A9: C | D9: =J5 -> １節 | G9: =J7 -> ２節 | J9: #VALUE! | M9: ２節 | P9: １節 | S9: ６節 | V9: ３節 | Y9: ３節 | AB9: ６節 | AE9: C
A10: 高砂 | D10: =J6 -> 44303 | G10: =J8 -> 44317 | J10: ＊ | K10: ＊ | L10: ＊ | M10: 44317 | P10: 44303 | S10: 44472 | V10: 44331 | Y10: 44331 | AB10: 44472 | AE10: 高砂
A11: D | D11: =M5 -> ２節 | G11: =M7 -> ５節 | J11: =M9 -> ２節 | M11: #VALUE! | P11: ６節 | S11: ５節 | V11: ６節 | Y11: ３節 | AB11: ３節 | AE11: D
A12: 西町 | D12: =M6 -> 44317 | G12: =M8 -> 44402 | J12: =M10 -> 44317 | M12: ＊ | N12: ＊ | O12: ＊ | P12: 44472 | S12: 44402 | V12: 44472 | Y12: 44331 | AB12: 44331 | AE12: 西町
A13: E | D13: =P5 -> ２節 | G13: =P7 -> ４節 | J13: =P9 -> １節 | M13: =P11 -> ６節 | P13: #VALUE! | S13: ２節 | V13: ４節 | Y13: ６節 | AB13: １節 | AE13: E
A14: ホワイト | D14: =P6 -> 44317 | G14: =P8 -> 44345 | J14: =P10 -> 44303 | M14: =P12 -> 44472 | P14: ＊ | Q14: ＊ | R14: ＊ | S14: 44317 | V14: 44345 | Y14: 44472 | AB14: 44303 | AE14: ホワイト
A15: F | D15: =S5 -> 桜小学校 | G15: =S7 -> ２節 | J15: =S9 -> ６節 | M15: =S11 -> ５節 | P15: =S13 -> ２節 | S15: #VALUE! | V15: １節 | Y15: １節 | AB15: ４節 | AE15: F
A16: 戸ヶ崎 | D16: =S6 -> 44523 | G16: =S8 -> 44317 | J16: =S10 -> 44472 | M16: =S12 -> 44402 | P16: =S14 -> 44317 | S16: ＊ | T16: ＊ | U16: ＊ | V16: 44303 | Y16: 44303 | AB16: 44345 | AE16: 戸ヶ崎
A17: G | D17: =V5 -> 桜小学校 | G17: =V7 -> １節 | J17: =V9 -> ３節 | M17: =V11 -> ６節 | P17: =V13 -> ４節 | S17: =V15 -> １節 | V17: #VALUE! | Y17: ５節 | AB17: ３節 | AE17: G
A18: 桜 | D18: =V6 -> 44523 | G18: =V8 -> 44303 | J18: =V10 -> 44331 | M18: =V12 -> 44472 | P18: =V14 -> 44345 | S18: =V16 -> 44303 | V18: ＊ | W18: ＊ | X18: ＊ | Y18: 44402 | AB18: 44331 | AE18: 桜
A19: H | D19: =Y5 -> ６節 | G19: =Y7 -> １節 | J19: =Y9 -> ３節 | M19: =Y11 -> ３節 | P19: =Y13 -> ６節 | S19: =Y15 -> １節 | V19: =Y17 -> ５節 | Y19: #VALUE! | AB19: ５節 | AE19: H
A20: 大相模 | D20: =Y6 -> 44492 | G20: =Y8 -> 44303 | J20: =Y10 -> 44331 | M20: =Y12 -> 44331 | P20: =Y14 -> 44472 | S20: =Y16 -> 44303 | V20: =Y18 -> 44402 | Y20: ＊ | Z20: ＊ | AA20: ＊ | AB20: 44402 | AE20: 大相模
A21: I | D21: =AB5 -> １節 | G21: =AB7 -> ４節 | J21: =AB9 -> ６節 | M21: =AB11 -> ３節 | P21: =AB13 -> １節 | S21: =AB15 -> ４節 | V21: =AB17 -> ３節 | Y21: =AB19 -> ５節 | AB21: #VALUE! | AE21: I
A22: 越谷南 | D22: =AB6 -> 44303 | G22: =AB8 -> 44345 | J22: =AB10 -> 44472 | M22: =AB12 -> 44331 | P22: =AB14 -> 44303 | S22: =AB16 -> 44345 | V22: =AB18 -> 44331 | Y22: =AB20 -> 44402 | AB22: ＊ | AC22: ＊ | AD22: ＊ | AE22: 越谷南
A23: ブロック | D23: A | G23: B | J23: C | M23: D | P23: E | S23: F | V23: G | Y23: H | AB23: I | AE23: ブロック
A24: a | D24: 草加東 | G24: 越谷FC | J24: 高砂 | M24: 西町 | P24: ホワイト | S24: 戸ヶ崎 | V24: 桜 | Y24: 大相模 | AB24: 越谷南 | AE24: a
A27: ブロック | D27: J | G27: K | J27: L | M27: M | P27: N | S27: O | V27: P | Y27: Q | AB27: R | AE27: ブロック
A28: b | D28: 立花 | G28: 桜井 | J28: 越谷PC | M28: 北野 | P28: 南郷 | S28: つつみ | V28: 彦成 | Y28: 宮本 | AB28: 三郷 | AE28: b
A29: J | D29: #VALUE! | G29: ２節 | J29: ２節 | M29: ９節 | P29: ３節 | S29: ５節 | V29: ３節 | Y29: ６節 | AB29: ５節 | AE29: J
A30: 立花 | D30: ＊ | E30: ＊ | F30: ＊ | G30: 44317 | J30: 44317 | M30: 44514 | P30: 44331 | S30: 44402 | V30: 44331 | Y30: 44472 | AB30: 44402 | AE30: 立花
A31: K | D31: =G29 -> ２節 | G31: #VALUE! | J31: ６節 | M31: ５節 | P31: ５節 | S31: ２節 | V31: 不戦勝 | Y31: ３節 | AB31: ３節 | AE31: K
A32: 桜井 | D32: =G30 -> 44317 | G32: ＊ | H32: ＊ | I32: ＊ | J32: 44472 | M32: 44402 | P32: 44402 | S32: 44317 | Y32: 44331 | AB32: 44331 | AE32: 桜井
A33: L | D33: =J29 -> ２節 | G33: =J31 -> ６節 | J33: #VALUE! | M33: ２節 | P33: １節 | S33: ４節 | V33: ４節 | Y33: １節 | AB33: ６節 | AE33: L
A34: 越谷PC | D34: =J30 -> 44317 | G34: =J32 -> 44472 | J34: ＊ | K34: ＊ | L34: ＊ | M34: 44317 | P34: 44303 | S34: 44345 | V34: 44345 | Y34: 44303 | AB34: 44472 | AE34: 越谷PC
A35: M | D35: =M29 -> ９節 | G35: =M31 -> ５節 | J35: =M33 -> ２節 | M35: #VALUE! | P35: ５節 | S35: ９節 | V35: ２節 | Y35: ４節 | AB35: ４節 | AE35: M
A36: 北野 | D36: =M30 -> 44514 | G36: =M32 -> 44402 | J36: =M34 -> 44317 | M36: ＊ | N36: ＊ | O36: ＊ | P36: 44402 | S36: 44514 | V36: 44317 | Y36: 44345 | AB36: 44345 | AE36: 北野
A37: N | D37: =P29 -> ３節 | G37: =P31 -> ５節 | J37: =P33 -> １節 | M37: =P35 -> ５節 | P37: #VALUE! | S37: ３節 | V37: ４節 | Y37: ４節 | AB37: １節 | AE37: N
A38: 南郷 | D38: =P30 -> 44331 | G38: =P32 -> 44402 | J38: =P34 -> 44303 | M38: =P36 -> 44402 | P38: ＊ | Q38: ＊ | R38: ＊ | S38: 44331 | V38: 44345 | Y38: 44345 | AB38: 44303 | AE38: 南郷
A39: O | D39: =S29 -> ５節 | G39: =S31 -> ２節 | J39: =S33 -> ４節 | M39: =S35 -> ９節 | P39: =S37 -> ３節 | S39: #VALUE! | V39: ２節 | Y39: ３節 | AB39: ４節 | AE39: O
A40: つつみ | D40: =S30 -> 44402 | G40: =S32 -> 44317 | J40: =S34 -> 44345 | M40: =S36 -> 44514 | P40: =S38 -> 44331 | S40: ＊ | T40: ＊ | U40: ＊ | V40: 44317 | Y40: 44331 | AB40: 44345 | AE40: つつみ
A41: P | D41: =V29 -> ３節 | G41: 不戦敗 | J41: =V33 -> ４節 | M41: =V35 -> ２節 | P41: =V37 -> ４節 | S41: =V39 -> ２節 | V41: #VALUE! | Y41: 不戦敗 | AB41: ３節 | AE41: P
A42: 彦成 | D42: =V30 -> 44331 | J42: =V34 -> 44345 | M42: =V36 -> 44317 | P42: =V38 -> 44345 | S42: =V40 -> 44317 | V42: ＊ | W42: ＊ | X42: ＊ | AB42: 44331 | AE42: 彦成
A43: Q | D43: =Y29 -> ６節 | G43: =Y31 -> ３節 | J43: =Y33 -> １節 | M43: =Y35 -> ４節 | P43: =Y37 -> ４節 | S43: =Y39 -> ３節 | V43: 不戦勝 | Y43: #VALUE! | AB43: １節 | AE43: Q
...

Sheet 21年度成績表
D1: 2021年度 第27回ドリーム･リーグ杯
AN2: =TODAY() -> 44504
A3: ブロック | D3: A | G3: B | J3: C | M3: D | P3: E | S3: F | V3: G | Y3: H | AB3: I | AE3: ブロック | AH3: 勝 点 | AK3: 得失点差 | AN3: 得 点 | AQ3: 計 算 | AT3: 順 位
A4: a | D4: =参加チーム!$C2 -> 草加東 | G4: =参加チーム!$C3 -> 越谷FC | J4: =参加チーム!$C4 -> 高砂 | M4: =参加チーム!$C5 -> 西町 | P4: =参加チーム!$C6 -> ホワイト | S4: =参加チーム!$C7 -> 戸ヶ崎 | V4: =参加チーム!$C8 -> 桜 | Y4: =参加チーム!$C9 -> 大相模 | AB4: =参加チーム!$C10 -> 越谷南 | AE4: =IF(A4="","",A4) -> a
A5: =IF(D3="","",D3) -> A | D5: =IF(D6="","",IF(D6-F6>0,"○",IF(D6-F6<0,"×","△"))) -> #VALUE! | G5: =IF(G6="","",IF(G6-I6>0,"○",IF(G6-I6<0,"×","△"))) | J5: =IF(J6="","",IF(J6-L6>0,"○",IF(J6-L6<0,"×","△"))) -> ○ | M5: =IF(M6="","",IF(M6-O6>0,"○",IF(M6-O6<0,"×","△"))) -> ○ | P5: =IF(P6="","",IF(P6-R6>0,"○",IF(P6-R6<0,"×","△"))) -> ○ | S5: =IF(S6="","",IF(S6-U6>0,"○",IF(S6-U6<0,"×","△"))) | V5: =IF(V6="","",IF(V6-X6>0,"○",IF(V6-X6<0,"×","△"))) | Y5: =IF(Y6="","",IF(Y6-AA6>0,"○",IF(Y6-AA6<0,"×","△"))) -> ○ | AB5: =IF(AB6="","",IF(AB6-AD6>0,"○",IF(AB6-AD6<0,"×","△"))) -> ○ | AE5: =IF(D3="","",D3) -> A | AH5: =COUNTIF(D5:AD5,"○")*3+COUNTIF(D5:AD5,"△") -> 15 | AK5: =SUM(D6,G6,J6,M6,P6,S6,V6,Y6,AB6)-SUM(F6,I6,L6,O6,R6,U6,X6,AA6,AD6) -> 25 | AN5: =SUM(D6,G6,J6,M6,P6,S6,V6,Y6,AB6) -> 25 | AQ5: =10000*AH5+100*AK5+AN5 -> 152525 | AT5: =RANK(AQ5,$AQ$5:$AQ$22) -> 3
A6: =IF(D4="","",D4) -> 草加東 | D6: ＊ | E6: ＊ | F6: ＊ | H6: ― | J6: 5 | K6: ― | L6: 0 | M6: 4 | N6: ― | O6: 0 | P6: 3 | Q6: ― | R6: 0 | T6: ― | W6: ― | Y6: 8 | Z6: ― | AA6: 0 | AB6: 5 | AC6: ― | AD6: 0 | AE6: =IF(D4="","",D4) -> 草加東
A7: =IF(G3="","",G3) -> B | D7: =IF(D8="","",IF(D8-F8>0,"○",IF(D8-F8<0,"×","△"))) | G7: =IF(G8="","",IF(G8-I8>0,"○",IF(G8-I8<0,"×","△"))) -> #VALUE! | J7: =IF(J8="","",IF(J8-L8>0,"○",IF(J8-L8<0,"×","△"))) -> ○ | M7: =IF(M8="","",IF(M8-O8>0,"○",IF(M8-O8<0,"×","△"))) -> ○ | P7: =IF(P8="","",IF(P8-R8>0,"○",IF(P8-R8<0,"×","△"))) -> ○ | S7: =IF(S8="","",IF(S8-U8>0,"○",IF(S8-U8<0,"×","△"))) -> ○ | V7: =IF(V8="","",IF(V8-X8>0,"○",IF(V8-X8<0,"×","△"))) -> ○ | Y7: =IF(Y8="","",IF(Y8-AA8>0,"○",IF(Y8-AA8<0,"×","△"))) -> ○ | AB7: =IF(AB8="","",IF(AB8-AD8>0,"○",IF(AB8-AD8<0,"×","△"))) -> ○ | AE7: =IF(G3="","",G3) -> B | AH7: =COUNTIF(D7:AD7,"○")*3+COUNTIF(D7:AD7,"△") -> 21 | AK7: =SUM(D8,G8,J8,M8,P8,S8,V8,Y8,AB8)-SUM(F8,I8,L8,O8,R8,U8,X8,AA8,AD8) -> 32 | AN7: =SUM(D8,G8,J8,M8,P8,S8,V8,Y8,AB8) -> 32 | AQ7: =10000*AH7+100*AK7+AN7 -> 213232 | AT7: =RANK(AQ7,$AQ$5:$AQ$22) -> 1
A8: =IF(G4="","",G4) -> 越谷FC | D8: =IF(I6="","",I6) | E8: ― | F8: =IF(G6="","",G6) | G8: ＊ | H8: ＊ | I8: ＊ | J8: 4 | K8: ― | L8: 0 | M8: 6 | N8: ― | O8: 0 | P8: 2 | Q8: ― | R8: 0 | S8: 3 | T8: ― | U8: 0 | V8: 8 | W8: ― | X8: 0 | Y8: 6 | Z8: ― | AA8: 0 | AB8: 3 | AC8: ― | AD8: 0 | AE8: =IF(G4="","",G4) -> 越谷FC
A9: =IF(J3="","",J3) -> C | D9: =IF(D10="","",IF(D10-F10>0,"○",IF(D10-F10<0,"×","△"))) -> × | G9: =IF(G10="","",IF(G10-I10>0,"○",IF(G10-I10<0,"×","△"))) -> × | J9: =IF(J10="","",IF(J10-L10>0,"○",IF(J10-L10<0,"×","△"))) -> #VALUE! | M9: =IF(M10="","",IF(M10-O10>0,"○",IF(M10-O10<0,"×","△"))) -> × | P9: =IF(P10="","",IF(P10-R10>0,"○",IF(P10-R10<0,"×","△"))) -> × | S9: =IF(S10="","",IF(S10-U10>0,"○",IF(S10-U10<0,"×","△"))) -> ○ | V9: =IF(V10="","",IF(V10-X10>0,"○",IF(V10-X10<0,"×","△"))) -> ○ | Y9: =IF(Y10="","",IF(Y10-AA10>0,"○",IF(Y10-AA10<0,"×","△"))) -> ○ | AB9: =IF(AB10="","",IF(AB10-AD10>0,"○",IF(AB10-AD10<0,"×","△"))) -> ○ | AE9: =IF(J3="","",J3) -> C | AH9: =COUNTIF(D9:AD9,"○")*3+COUNTIF(D9:AD9,"△") -> 12 | AK9: =SUM(D10,G10,J10,M10,P10,S10,V10,Y10,AB10)-SUM(F10,I10,L10,O10,R10,U10,X10,AA10,AD10) -> -9 | AN9: =SUM(D10,G10,J10,M10,P10,S10,V10,Y10,AB10) -> 13 | AQ9: =10000*AH9+100*AK9+AN9 -> 119113 | AT9: =RANK(AQ9,$AQ$5:$AQ$22) -> 5
A10: =IF(J4="","",J4) -> 高砂 | D10: =IF(L6="","",L6) -> 0 | E10: ― | F10: =IF(J6="","",J6) -> 5 | G10: =IF(L8="","",L8) -> 0 | H10: ― | I10: =IF(J8="","",J8) -> 4 | J10: ＊ | K10: ＊ | L10: ＊ | M10: 1 | N10: ― | O10: 3 | P10: 2 | Q10: ― | R10: 8 | S10: 1 | T10: ― | U10: 0 | V10: 5 | W10: ― | X10: 1 | Y10: 2 | Z10: ― | AA10: 1 | AB10: 2 | AC10: ― | AD10: 0 | AE10: =IF(J4="","",J4) -> 高砂
A11: =IF(M3="","",M3) -> D | D11: =IF(D12="","",IF(D12-F12>0,"○",IF(D12-F12<0,"×","△"))) -> × | G11: =IF(G12="","",IF(G12-I12>0,"○",IF(G12-I12<0,"×","△"))) -> × | J11: =IF(J12="","",IF(J12-L12>0,"○",IF(J12-L12<0,"×","△"))) -> ○ | M11: =IF(M12="","",IF(M12-O12>0,"○",IF(M12-O12<0,"×","△"))) -> #VALUE! | P11: =IF(P12="","",IF(P12-R12>0,"○",IF(P12-R12<0,"×","△"))) -> × | S11: =IF(S12="","",IF(S12-U12>0,"○",IF(S12-U12<0,"×","△"))) -> ○ | V11: =IF(V12="","",IF(V12-X12>0,"○",IF(V12-X12<0,"×","△"))) -> ○ | Y11: =IF(Y12="","",IF(Y12-AA12>0,"○",IF(Y12-AA12<0,"×","△"))) -> △ | AB11: =IF(AB12="","",IF(AB12-AD12>0,"○",IF(AB12-AD12<0,"×","△"))) -> ○ | AE11: =IF(M3="","",M3) -> D | AH11: =COUNTIF(D11:AD11,"○")*3+COUNTIF(D11:AD11,"△") -> 13 | AK11: =SUM(D12,G12,J12,M12,P12,S12,V12,Y12,AB12)-SUM(F12,I12,L12,O12,R12,U12,X12,AA12,AD12) -> 4 | AN11: =SUM(D12,G12,J12,M12,P12,S12,V12,Y12,AB12) -> 18 | AQ11: =10000*AH11+100*AK11+AN11 -> 130418 | AT11: =RANK(AQ11,$AQ$5:$AQ$22) -> 4
A12: =IF(M4="","",M4) -> 西町 | D12: =IF(O6="","",O6) -> 0 | E12: ― | F12: =IF(M6="","",M6) -> 4 | G12: =IF(O8="","",O8) -> 0 | H12: ― | I12: =IF(M8="","",M8) -> 6 | J12: =IF(O10="","",O10) -> 3 | K12: ― | L12: =IF(M10="","",M10) -> 1 | M12: ＊ | N12: ＊ | O12: ＊ | P12: 1 | Q12: ― | R12: 2 | S12: 1 | T12: ― | U12: 0 | V12: 7 | W12: ― | X12: 0 | Y12: 1 | Z12: ― | AA12: 1 | AB12: 5 | AC12: ― | AD12: 0 | AE12: =IF(M4="","",M4) -> 西町
A13: =IF(P3="","",P3) -> E | D13: =IF(D14="","",IF(D14-F14>0,"○",IF(D14-F14<0,"×","△"))) -> × | G13: =IF(G14="","",IF(G14-I14>0,"○",IF(G14-I14<0,"×","△"))) -> × | J13: =IF(J14="","",IF(J14-L14>0,"○",IF(J14-L14<0,"×","△"))) -> ○ | M13: =IF(M14="","",IF(M14-O14>0,"○",IF(M14-O14<0,"×","△"))) -> ○ | P13: =IF(P14="","",IF(P14-R14>0,"○",IF(P14-R14<0,"×","△"))) -> #VALUE! | S13: =IF(S14="","",IF(S14-U14>0,"○",IF(S14-U14<0,"×","△"))) -> ○ | V13: =IF(V14="","",IF(V14-X14>0,"○",IF(V14-X14<0,"×","△"))) -> ○ | Y13: =IF(Y14="","",IF(Y14-AA14>0,"○",IF(Y14-AA14<0,"×","△"))) -> △ | AB13: =IF(AB14="","",IF(AB14-AD14>0,"○",IF(AB14-AD14<0,"×","△"))) -> ○ | AE13: =IF(P3="","",P3) -> E | AH13: =COUNTIF(D13:AD13,"○")*3+COUNTIF(D13:AD13,"△") -> 16 | AK13: =SUM(D14,G14,J14,M14,P14,S14,V14,Y14,AB14)-SUM(F14,I14,L14,O14,R14,U14,X14,AA14,AD14) -> 11 | AN13: =SUM(D14,G14,J14,M14,P14,S14,V14,Y14,AB14) -> 20 | AQ13: =10000*AH13+100*AK13+AN13 -> 161120 | AT13: =RANK(AQ13,$AQ$5:$AQ$22) -> 2
A14: =IF(P4="","",P4) -> ホワイト | D14: =IF(R6="","",R6) -> 0 | E14: ― | F14: =IF(P6="","",P6) -> 3 | G14: =IF(R8="","",R8) -> 0 | H14: ― | I14: =IF(P8="","",P8) -> 2 | J14: =IF(R10="","",R10) -> 8 | K14: ― | L14: =IF(P10="","",P10) -> 2 | M14: =IF(R12="","",R12) -> 2 | N14: ― | O14: =IF(P12="","",P12) -> 1 | P14: ＊ | Q14: ＊ | R14: ＊ | S14: 1 | T14: ― | U14: 0 | V14: 2 | W14: ― | X14: 0 | Y14: 0 | Z14: ― | AA14: 0 | AB14: 7 | AC14: ― | AD14: 1 | AE14: =IF(P4="","",P4) -> ホワイト
A15: =IF(S3="","",S3) -> F | D15: =IF(D16="","",IF(D16-F16>0,"○",IF(D16-F16<0,"×","△"))) | G15: =IF(G16="","",IF(G16-I16>0,"○",IF(G16-I16<0,"×","△"))) -> × | J15: =IF(J16="","",IF(J16-L16>0,"○",IF(J16-L16<0,"×","△"))) -> × | M15: =IF(M16="","",IF(M16-O16>0,"○",IF(M16-O16<0,"×","△"))) -> × | P15: =IF(P16="","",IF(P16-R16>0,"○",IF(P16-R16<0,"×","△"))) -> × | S15: =IF(S16="","",IF(S16-U16>0,"○",IF(S16-U16<0,"×","△"))) -> #VALUE! | V15: =IF(V16="","",IF(V16-X16>0,"○",IF(V16-X16<0,"×","△"))) -> △ | Y15: =IF(Y16="","",IF(Y16-AA16>0,"○",IF(Y16-AA16<0,"×","△"))) -> △ | AB15: =IF(AB16="","",IF(AB16-AD16>0,"○",IF(AB16-AD16<0,"×","△"))) -> × | AE15: =IF(S3="","",S3) -> F | AH15: =COUNTIF(D15:AD15,"○")*3+COUNTIF(D15:AD15,"△") -> 2 | AK15: =SUM(D16,G16,J16,M16,P16,S16,V16,Y16,AB16)-SUM(F16,I16,L16,O16,R16,U16,X16,AA16,AD16) -> -9 | AN15: =SUM(D16,G16,J16,M16,P16,S16,V16,Y16,AB16) -> 3 | AQ15: =10000*AH15+100*AK15+AN15 -> 19103 | AT15: =RANK(AQ15,$AQ$5:$AQ$22) -> 8
A16: =IF(S4="","",S4) -> 戸ヶ崎 | D16: =IF(U6="","",U6) | E16: ― | F16: =IF(S6="","",S6) | G16: =IF(U8="","",U8) -> 0 | H16: ― | I16: =IF(S8="","",S8) -> 3 | J16: =IF(U10="","",U10) -> 0 | K16: ― | L16: =IF(S10="","",S10) -> 1 | M16: =IF(U12="","",U12) -> 0 | N16: ― | O16: =IF(S12="","",S12) -> 1 | P16: =IF(U14="","",U14) -> 0 | Q16: ― | R16: =IF(S14="","",S14) -> 1 | S16: ＊ | T16: ＊ | U16: ＊ | V16: 1 | W16: ― | X16: 1 | Y16: 2 | Z16: ― | AA16: 2 | AB16: 0 | AC16: ― | AD16: 3 | AE16: =IF(S4="","",S4) -> 戸ヶ崎
A17: =IF(V3="","",V3) -> G | D17: =IF(D18="","",IF(D18-F18>0,"○",IF(D18-F18<0,"×","△"))) | G17: =IF(G18="","",IF(G18-I18>0,"○",IF(G18-I18<0,"×","△"))) -> × | J17: =IF(J18="","",IF(J18-L18>0,"○",IF(J18-L18<0,"×","△"))) -> × | M17: =IF(M18="","",IF(M18-O18>0,"○",IF(M18-O18<0,"×","△"))) -> × | P17: =IF(P18="","",IF(P18-R18>0,"○",IF(P18-R18<0,"×","△"))) -> × | S17: =IF(S18="","",IF(S18-U18>0,"○",IF(S18-U18<0,"×","△"))) -> △ | V17: =IF(V18="","",IF(V18-X18>0,"○",IF(V18-X18<0,"×","△"))) -> #VALUE! | Y17: =IF(Y18="","",IF(Y18-AA18>0,"○",IF(Y18-AA18<0,"×","△"))) -> × | AB17: =IF(AB18="","",IF(AB18-AD18>0,"○",IF(AB18-AD18<0,"×","△"))) -> × | AE17: =IF(V3="","",V3) -> G | AH17: =COUNTIF(D17:AD17,"○")*3+COUNTIF(D17:AD17,"△") -> 1 | AK17: =SUM(D18,G18,J18,M18,P18,S18,V18,Y18,AB18)-SUM(F18,I18,L18,O18,R18,U18,X18,AA18,AD18) -> -30 | AN17: =SUM(D18,G18,J18,M18,P18,S18,V18,Y18,AB18) -> 2 | AQ17: =10000*AH17+100*AK17+AN17 -> 7002 | AT17: =RANK(AQ17,$AQ$5:$AQ$22) -> 9
A18: =IF(V4="","",V4) -> 桜 | D18: =IF(X6="","",X6) | E18: ― | F18: =IF(V6="","",V6) | G18: =IF(X8="","",X8) -> 0 | H18: ― | I18: =IF(V8="","",V8) -> 8 | J18: =IF(X10="","",X10) -> 1 | K18: ― | L18: =IF(V10="","",V10) -> 5 | M18: =IF(X12="","",X12) -> 0 | N18: ― | O18: =IF(V12="","",V12) -> 7 | P18: =IF(X14="","",X14) -> 0 | Q18: ― | R18: =IF(V14="","",V14) -> 2 | S18: =IF(X16="","",X16) -> 1 | T18: ― | U18: =IF(V16="","",V16) -> 1 | V18: ＊ | W18: ＊ | X18: ＊ | Y18: 0 | Z18: ― | AA18: 4 | AB18: 0 | AC18: ― | AD18: 5 | AE18: =IF(V4="","",V4) -> 桜
A19: =IF(Y3="","",Y3) -> H | D19: =IF(D20="","",IF(D20-F20>0,"○",IF(D20-F20<0,"×","△"))) -> × | G19: =IF(G20="","",IF(G20-I20>0,"○",IF(G20-I20<0,"×","△"))) -> × | J19: =IF(J20="","",IF(J20-L20>0,"○",IF(J20-L20<0,"×","△"))) -> × | M19: =IF(M20="","",IF(M20-O20>0,"○",IF(M20-O20<0,"×","△"))) -> △ | P19: =IF(P20="","",IF(P20-R20>0,"○",IF(P20-R20<0,"×","△"))) -> △ | S19: =IF(S20="","",IF(S20-U20>0,"○",IF(S20-U20<0,"×","△"))) -> △ | V19: =IF(V20="","",IF(V20-X20>0,"○",IF(V20-X20<0,"×","△"))) -> ○ | Y19: =IF(Y20="","",IF(Y20-AA20>0,"○",IF(Y20-AA20<0,"×","△"))) -> #VALUE! | AB19: =IF(AB20="","",IF(AB20-AD20>0,"○",IF(AB20-AD20<0,"×","△"))) -> ○ | AE19: =IF(Y3="","",Y3) -> H | AH19: =COUNTIF(D19:AD19,"○")*3+COUNTIF(D19:AD19,"△") -> 9 | AK19: =SUM(D20,G20,J20,M20,P20,S20,V20,Y20,AB20)-SUM(F20,I20,L20,O20,R20,U20,X20,AA20,AD20) -> -9 | AN19: =SUM(D20,G20,J20,M20,P20,S20,V20,Y20,AB20) -> 10 | AQ19: =10000*AH19+100*AK19+AN19 -> 89110 | AT19: =RANK(AQ19,$AQ$5:$AQ$22) -> 6
A20: =IF(Y4="","",Y4) -> 大相模 | D20: =IF(AA6="","",AA6) -> 0 | E20: ― | F20: =IF(Y6="","",Y6) -> 8 | G20: =IF(AA8="","",AA8) -> 0 | H20: ― | I20: =IF(Y8="","",Y8) -> 6 | J20: =IF(AA10="","",AA10) -> 1 | K20: ― | L20: =IF(Y10="","",Y10) -> 2 | M20: =IF(AA12="","",AA12) -> 1 | N20: ― | O20: =IF(Y12="","",Y12) -> 1 | P20: =IF(AA14="","",AA14) -> 0 | Q20: ― | R20: =IF(Y14="","",Y14) -> 0 | S20: =IF(AA16="","",AA16) -> 2 | T20: ― | U20: =IF(Y16="","",Y16) -> 2 | V20: =IF(AA18="","",AA18) -> 4 | W20: ― | X20: =IF(Y18="","",Y18) -> 0 | Y20: ＊ | Z20: ＊ | AA20: ＊ | AB20: 2 | AC20: ― | AD20: 0 | AE20: =IF(Y4="","",Y4) -> 大相模
A21: =IF(AB3="","",AB3) -> I | D21: =IF(D22="","",IF(D22-F22>0,"○",IF(D22-F22<0,"×","△"))) -> × | G21: =IF(G22="","",IF(G22-I22>0,"○",IF(G22-I22<0,"×","△"))) -> × | J21: =IF(J22="","",IF(J22-L22>0,"○",IF(J22-L22<0,"×","△"))) -> × | M21: =IF(M22="","",IF(M22-O22>0,"○",IF(M22-O22<0,"×","△"))) -> × | P21: =IF(P22="","",IF(P22-R22>0,"○",IF(P22-R22<0,"×","△"))) -> × | S21: =IF(S22="","",IF(S22-U22>0,"○",IF(S22-U22<0,"×","△"))) -> ○ | V21: =IF(V22="","",IF(V22-X22>0,"○",IF(V22-X22<0,"×","△"))) -> ○ | Y21: =IF(Y22="","",IF(Y22-AA22>0,"○",IF(Y22-AA22<0,"×","△"))) -> × | AB21: =IF(AB22="","",IF(AB22-AD22>0,"○",IF(AB22-AD22<0,"×","△"))) -> #VALUE! | AE21: =IF(AB3="","",AB3) -> I | AH21: =COUNTIF(D21:AD21,"○")*3+COUNTIF(D21:AD21,"△") -> 6 | AK21: =SUM(D22,G22,J22,M22,P22,S22,V22,Y22,AB22)-SUM(F22,I22,L22,O22,R22,U22,X22,AA22,AD22) -> -15 | AN21: =SUM(D22,G22,J22,M22,P22,S22,V22,Y22,AB22) -> 9 | AQ21: =10000*AH21+100*AK21+AN21 -> 58509 | AT21: =RANK(AQ21,$AQ$5:$AQ$22) -> 7
A22: =IF(AB4="","",AB4) -> 越谷南 | D22: =IF(AD6="","",AD6) -> 0 | E22: ― | F22: =IF(AB6="","",AB6) -> 5 | G22: =IF(AD8="","",AD8) -> 0 | H22: ― | I22: =IF(AB8="","",AB8) -> 3 | J22: =IF(AD10="","",AD10) -> 0 | K22: ― | L22: =IF(AB10="","",AB10) -> 2 | M22: =IF(AD$12="","",AD$12) -> 0 | N22: ― | O22: =IF(AB12="","",AB12) -> 5 | P22: =IF(AD14="","",AD14) -> 1 | Q22: ― | R22: =IF(AB14="","",AB14) -> 7 | S22: =IF(AD16="","",AD16) -> 3 | T22: ― | U22: =IF(AB16="","",AB16) -> 0 | V22: =IF(AD18="","",AD18) -> 5 | W22: ― | X22: =IF(AB18="","",AB18) -> 0 | Y22: =IF(AD20="","",AD20) -> 0 | Z22: ― | AA22: =IF(AB20="","",AB20) -> 2 | AB22: ＊ | AC22: ＊ | AD22: ＊ | AE22: =IF(AB4="","",AB4) -> 越谷南
A23: ブロック | D23: =IF(D3="","",D3) -> A | G23: =IF(G3="","",G3) -> B | J23: =IF(J3="","",J3) -> C | M23: =IF(M3="","",M3) -> D | P23: =IF(P3="","",P3) -> E | S23: =IF(S3="","",S3) -> F | V23: =IF(V3="","",V3) -> G | Y23: =IF(Y3="","",Y3) -> H | AB23: =IF(AB3="","",AB3) -> I | AE23: ブロック | AH23: 勝 点 | AK23: 得失点差 | AN23: 得 点 | AQ23: 計 算 | AT23: 順 位
A24: =IF(A4="","",A4) -> a | D24: =IF(D4="","",D4) -> 草加東 | G24: =IF(G4="","",G4) -> 越谷FC | J24: =IF(J4="","",J4) -> 高砂 | M24: =IF(M4="","",M4) -> 西町 | P24: =IF(P4="","",P4) -> ホワイト | S24: =IF(S4="","",S4) -> 戸ヶ崎 | V24: =IF(V4="","",V4) -> 桜 | Y24: =IF(Y4="","",Y4) -> 大相模 | AB24: =IF(AB4="","",AB4) -> 越谷南 | AE24: =IF(A4="","",A4) -> a
A27: ブロック | D27: J | G27: K | J27: L | M27: M | P27: N | S27: O | V27: P | Y27: Q | AB27: R | AE27: ブロック | AH27: 勝 点 | AK27: 得失点差 | AN27: 得 点 | AQ27: 計 算 | AT27: 順 位
A28: b | D28: =参加チーム!$C11 -> 立花 | G28: =参加チーム!$C12 -> 桜井 | J28: =参加チーム!$C13 -> 越谷PC | M28: =参加チーム!$C14 -> 北野 | P28: =参加チーム!$C15 -> 南郷 | S28: =参加チーム!$C16 -> つつみ | V28: =参加チーム!$C17 -> 彦成 | Y28: =参加チーム!$C18 -> 宮本 | AB28: =参加チーム!$C19 -> 三郷 | AE28: =IF(A28="","",A28) -> b
A29: =IF(D27="","",D27) -> J | D29: =IF(D30="","",IF(D30-F30>0,"○",IF(D30-F30<0,"×","△"))) -> #VALUE! | G29: =IF(G30="","",IF(G30-I30>0,"○",IF(G30-I30<0,"×","△"))) -> ○ | J29: =IF(J30="","",IF(J30-L30>0,"○",IF(J30-L30<0,"×","△"))) -> △ | M29: =IF(M30="","",IF(M30-O30>0,"○",IF(M30-O30<0,"×","△"))) | P29: =IF(P30="","",IF(P30-R30>0,"○",IF(P30-R30<0,"×","△"))) -> △ | S29: =IF(S30="","",IF(S30-U30>0,"○",IF(S30-U30<0,"×","△"))) -> × | V29: =IF(V30="","",IF(V30-X30>0,"○",IF(V30-X30<0,"×","△"))) -> × | Y29: =IF(Y30="","",IF(Y30-AA30>0,"○",IF(Y30-AA30<0,"×","△"))) -> × | AB29: =IF(AB30="","",IF(AB30-AD30>0,"○",IF(AB30-AD30<0,"×","△"))) -> × | AE29: =IF(D27="","",D27) -> J | AH29: =COUNTIF(D29:AD29,"○")*3+COUNTIF(D29:AD29,"△") -> 5 | AK29: =SUM(D30,G30,J30,M30,P30,S30,V30,Y30,AB30)-SUM(F30,I30,L30,O30,R30,U30,X30,AA30,AD30) -> -8 | AN29: =SUM(D30,G30,J30,M30,P30,S30,V30,Y30,AB30) -> 11 | AQ29: =10000*AH29+100*AK29+AN29 -> 49211 | AT29: =RANK(AQ29,$AQ$29:$AQ$46) -> 7
A30: =IF(D28="","",D28) -> 立花 | D30: ＊ | E30: ＊ | F30: ＊ | G30: 7 | H30: ― | I30: 0 | J30: 1 | K30: ― | L30: 1 | N30: ― | P30: 0 | Q30: ― | R30: 0 | S30: 0 | T30: ― | U30: 2 | V30: 1 | W30: ― | X30: 6 | Y30: 1 | Z30: ― | AA30: 3 | AB30: 1 | AC30: ― | AD30: 7 | AE30: =IF(D28="","",D28) -> 立花
A31: =IF(G27="","",G27) -> K | D31: =IF(D32="","",IF(D32-F32>0,"○",IF(D32-F32<0,"×","△"))) -> × | G31: =IF(G32="","",IF(G32-I32>0,"○",IF(G32-I32<0,"×","△"))) -> #VALUE! | J31: =IF(J32="","",IF(J32-L32>0,"○",IF(J32-L32<0,"×","△"))) -> × | M31: =IF(M32="","",IF(M32-O32>0,"○",IF(M32-O32<0,"×","△"))) -> × | P31: =IF(P32="","",IF(P32-R32>0,"○",IF(P32-R32<0,"×","△"))) -> × | S31: =IF(S32="","",IF(S32-U32>0,"○",IF(S32-U32<0,"×","△"))) -> × | V31: =IF(V32="","",IF(V32-X32>0,"○",IF(V32-X32<0,"×","△"))) -> ○ | Y31: =IF(Y32="","",IF(Y32-AA32>0,"○",IF(Y32-AA32<0,"×","△"))) -> × | AB31: =IF(AB32="","",IF(AB32-AD32>0,"○",IF(AB32-AD32<0,"×","△"))) -> × | AE31: =IF(G27="","",G27) -> K | AH31: =COUNTIF(D31:AD31,"○")*3+COUNTIF(D31:AD31,"△") -> 3 | AK31: =SUM(D32,G32,J32,M32,P32,S32,V32,Y32,AB32)-SUM(F32,I32,L32,O32,R32,U32,X32,AA32,AD32) -> -30 | AN31: =SUM(D32,G32,J32,M32,P32,S32,V32,Y32,AB32) -> 6 | AQ31: =10000*AH31+100*AK31+AN31 -> 27006 | AT31: =RANK(AQ31,$AQ$29:$AQ$46) -> 9
A32: =IF(G28="","",G28) -> 桜井 | D32: =IF(I30="","",I30) -> 0 | E32: ― | F32: =IF(G30="","",G30) -> 7 | G32: ＊ | H32: ＊ | I32: ＊ | J32: 0 | K32: ― | L32: 7 | M32: 0 | N32: ― | O32: 4 | P32: 1 | Q32: ― | R32: 3 | S32: 0 | T32: ― | U32: 10 | V32: 5 | W32: ― | X32: 0 | Y32: 0 | Z32: ― | AA32: 4 | AB32: 0 | AC32: ― | AD32: 1 | AE32: =IF(G28="","",G28) -> 桜井
A33: =IF(J27="","",J27) -> L | D33: =IF(D34="","",IF(D34-F34>0,"○",IF(D34-F34<0,"×","△"))) -> △ | G33: =IF(G34="","",IF(G34-I34>0,"○",IF(G34-I34<0,"×","△"))) -> ○ | J33: =IF(J34="","",IF(J34-L34>0,"○",IF(J34-L34<0,"×","△"))) -> #VALUE! | M33: =IF(M34="","",IF(M34-O34>0,"○",IF(M34-O34<0,"×","△"))) -> ○ | P33: =IF(P34="","",IF(P34-R34>0,"○",IF(P34-R34<0,"×","△"))) -> ○ | S33: =IF(S34="","",IF(S34-U34>0,"○",IF(S34-U34<0,"×","△"))) -> ○ | V33: =IF(V34="","",IF(V34-X34>0,"○",IF(V34-X34<0,"×","△"))) -> △ | Y33: =IF(Y34="","",IF(Y34-AA34>0,"○",IF(Y34-AA34<0,"×","△"))) -> ○ | AB33: =IF(AB34="","",IF(AB34-AD34>0,"○",IF(AB34-AD34<0,"×","△"))) -> × | AE33: =IF(J27="","",J27) -> L | AH33: =COUNTIF(D33:AD33,"○")*3+COUNTIF(D33:AD33,"△") -> 17 | AK33: =SUM(D34,G34,J34,M34,P34,S34,V34,Y34,AB34)-SUM(F34,I34,L34,O34,R34,U34,X34,AA34,AD34) -> 13 | AN33: =SUM(D34,G34,J34,M34,P34,S34,V34,Y34,AB34) -> 21 | AQ33: =10000*AH33+100*AK33+AN33 -> 171321 | AT33: =RANK(AQ33,$AQ$29:$AQ$46) -> 2
A34: =IF(J28="","",J28) -> 越谷PC | D34: =IF(L30="","",L30) -> 1 | E34: ― | F34: =IF(J30="","",J30) -> 1 | G34: =IF(L32="","",L32) -> 7 | H34: ― | I34: =IF(J32="","",J32) -> 0 | J34: ＊ | K34: ＊ | L34: ＊ | M34: 3 | N34: ― | O34: 2 | P34: 3 | Q34: ― | R34: 1 | S34: 2 | T34: ― | U34: 1 | V34: 0 | W34: ― | X34: 0 | Y34: 4 | Z34: ― | AA34: 1 | AB34: 1 | AC34: ― | AD34: 2 | AE34: =IF(J28="","",J28) -> 越谷PC
A35: =IF(M27="","",M27) -> M | D35: =IF(D36="","",IF(D36-F36>0,"○",IF(D36-F36<0,"×","△"))) | G35: =IF(G36="","",IF(G36-I36>0,"○",IF(G36-I36<0,"×","△"))) -> ○ | J35: =IF(J36="","",IF(J36-L36>0,"○",IF(J36-L36<0,"×","△"))) -> × | M35: =IF(M36="","",IF(M36-O36>0,"○",IF(M36-O36<0,"×","△"))) -> #VALUE! | P35: =IF(P36="","",IF(P36-R36>0,"○",IF(P36-R36<0,"×","△"))) -> ○ | S35: =IF(S36="","",IF(S36-U36>0,"○",IF(S36-U36<0,"×","△"))) | V35: =IF(V36="","",IF(V36-X36>0,"○",IF(V36-X36<0,"×","△"))) -> ○ | Y35: =IF(Y36="","",IF(Y36-AA36>0,"○",IF(Y36-AA36<0,"×","△"))) -> ○ | AB35: =IF(AB36="","",IF(AB36-AD36>0,"○",IF(AB36-AD36<0,"×","△"))) -> ○ | AE35: =IF(M27="","",M27) -> M | AH35: =COUNTIF(D35:AD35,"○")*3+COUNTIF(D35:AD35,"△") -> 15 | AK35: =SUM(D36,G36,J36,M36,P36,S36,V36,Y36,AB36)-SUM(F36,I36,L36,O36,R36,U36,X36,AA36,AD36) -> 14 | AN35: =SUM(D36,G36,J36,M36,P36,S36,V36,Y36,AB36) -> 17 | AQ35: =10000*AH35+100*AK35+AN35 -> 151417 | AT35: =RANK(AQ35,$AQ$29:$AQ$46) -> 3
A36: =IF(M28="","",M28) -> 北野 | D36: =IF(O30="","",O30) | E36: ― | F36: =IF(M30="","",M30) | G36: =IF(O32="","",O32) -> 4 | H36: ― | I36: =IF(M32="","",M32) -> 0 | J36: =IF(O34="","",O34) -> 2 | K36: ― | L36: =IF(M34="","",M34) -> 3 | M36: ＊ | N36: ＊ | O36: ＊ | P36: 3 | Q36: ― | R36: 0 | T36: ― | V36: 5 | W36: ― | X36: 0 | Y36: 1 | Z36: ― | AA36: 0 | AB36: 2 | AC36: ― | AD36: 0 | AE36: =IF(M28="","",M28) -> 北野
A37: =IF(P27="","",P27) -> N | D37: =IF(D38="","",IF(D38-F38>0,"○",IF(D38-F38<0,"×","△"))) -> △ | G37: =IF(G38="","",IF(G38-I38>0,"○",IF(G38-I38<0,"×","△"))) -> ○ | J37: =IF(J38="","",IF(J38-L38>0,"○",IF(J38-L38<0,"×","△"))) -> × | M37: =IF(M38="","",IF(M38-O38>0,"○",IF(M38-O38<0,"×","△"))) -> × | P37: =IF(P38="","",IF(P38-R38>0,"○",IF(P38-R38<0,"×","△"))) -> #VALUE! | S37: =IF(S38="","",IF(S38-U38>0,"○",IF(S38-U38<0,"×","△"))) -> × | V37: =IF(V38="","",IF(V38-X38>0,"○",IF(V38-X38<0,"×","△"))) -> △ | Y37: =IF(Y38="","",IF(Y38-AA38>0,"○",IF(Y38-AA38<0,"×","△"))) -> × | AB37: =IF(AB38="","",IF(AB38-AD38>0,"○",IF(AB38-AD38<0,"×","△"))) -> × | AE37: =IF(P27="","",P27) -> N | AH37: =COUNTIF(D37:AD37,"○")*3+COUNTIF(D37:AD37,"△") -> 5 | AK37: =SUM(D38,G38,J38,M38,P38,S38,V38,Y38,AB38)-SUM(F38,I38,L38,O38,R38,U38,X38,AA38,AD38) -> -17 | AN37: =SUM(D38,G38,J38,M38,P38,S38,V38,Y38,AB38) -> 4 | AQ37: =10000*AH37+100*AK37+AN37 -> 48304 | AT37: =RANK(AQ37,$AQ$29:$AQ$46) -> 8
A38: =IF(P28="","",P28) -> 南郷 | D38: =IF(R30="","",R30) -> 0 | E38: ― | F38: =IF(P30="","",P30) -> 0 | G38: =IF(R32="","",R32) -> 3 | H38: ― | I38: =IF(P32="","",P32) -> 1 | J38: =IF(R34="","",R34) -> 1 | K38: ― | L38: =IF(P34="","",P34) -> 3 | M38: =IF(R36="","",R36) -> 0 | N38: ― | O38: =IF(P36="","",P36) -> 3 | P38: ＊ | Q38: ＊ | R38: ＊ | S38: 0 | T38: ― | U38: 6 | V38: 0 | W38: ― | X38: 0 | Y38: 0 | Z38: ― | AA38: 6 | AB38: 0 | AC38: ― | AD38: 2 | AE38: =IF(P28="","",P28) -> 南郷
A39: =IF(S27="","",S27) -> O | D39: =IF(D40="","",IF(D40-F40>0,"○",IF(D40-F40<0,"×","△"))) -> ○ | G39: =IF(G40="","",IF(G40-I40>0,"○",IF(G40-I40<0,"×","△"))) -> ○ | J39: =IF(J40="","",IF(J40-L40>0,"○",IF(J40-L40<0,"×","△"))) -> × | M39: =IF(M40="","",IF(M40-O40>0,"○",IF(M40-O40<0,"×","△"))) | P39: =IF(P40="","",IF(P40-R40>0,"○",IF(P40-R40<0,"×","△"))) -> ○ | S39: =IF(S40="","",IF(S40-U40>0,"○",IF(S40-U40<0,"×","△"))) -> #VALUE! | V39: =IF(V40="","",IF(V40-X40>0,"○",IF(V40-X40<0,"×","△"))) -> × | Y39: =IF(Y40="","",IF(Y40-AA40>0,"○",IF(Y40-AA40<0,"×","△"))) -> △ | AB39: =IF(AB40="","",IF(AB40-AD40>0,"○",IF(AB40-AD40<0,"×","△"))) -> ○ | AE39: =IF(S27="","",S27) -> O | AH39: =COUNTIF(D39:AD39,"○")*3+COUNTIF(D39:AD39,"△") -> 13 | AK39: =SUM(D40,G40,J40,M40,P40,S40,V40,Y40,AB40)-SUM(F40,I40,L40,O40,R40,U40,X40,AA40,AD40) -> 16 | AN39: =SUM(D40,G40,J40,M40,P40,S40,V40,Y40,AB40) -> 24 | AQ39: =10000*AH39+100*AK39+AN39 -> 131624 | AT39: =RANK(AQ39,$AQ$29:$AQ$46) -> 4
A40: =IF(S28="","",S28) -> つつみ | D40: =IF(U30="","",U30) -> 2 | E40: ― | F40: =IF(S30="","",S30) -> 0 | G40: =IF(U32="","",U32) -> 10 | H40: ― | I40: =IF(S32="","",S32) -> 0 | J40: =IF(U34="","",U34) -> 1 | K40: ― | L40: =IF(S34="","",S34) -> 2 | M40: =IF(U36="","",U36) | N40: ― | O40: =IF(S36="","",S36) | P40: =IF(U38="","",U38) -> 6 | Q40: ― | R40: =IF(S38="","",S38) -> 0 | S40: ＊ | T40: ＊ | U40: ＊ | V40: 2 | W40: ― | X40: 4 | Y40: 2 | Z40: ― | AA40: 2 | AB40: 1 | AC40: ― | AD40: 0 | AE40: =IF(S28="","",S28) -> つつみ
A41: =IF(V27="","",V27) -> P | D41: =IF(D42="","",IF(D42-F42>0,"○",IF(D42-F42<0,"×","△"))) -> ○ | G41: =IF(G42="","",IF(G42-I42>0,"○",IF(G42-I42<0,"×","△"))) -> × | J41: =IF(J42="","",IF(J42-L42>0,"○",IF(J42-L42<0,"×","△"))) -> △ | M41: =IF(M42="","",IF(M42-O42>0,"○",IF(M42-O42<0,"×","△"))) -> × | P41: =IF(P42="","",IF(P42-R42>0,"○",IF(P42-R42<0,"×","△"))) -> △ | S41: =IF(S42="","",IF(S42-U42>0,"○",IF(S42-U42<0,"×","△"))) -> ○ | V41: =IF(V42="","",IF(V42-X42>0,"○",IF(V42-X42<0,"×","△"))) -> #VALUE! | Y41: =IF(Y42="","",IF(Y42-AA42>0,"○",IF(Y42-AA42<0,"×","△"))) -> × | AB41: =IF(AB42="","",IF(AB42-AD42>0,"○",IF(AB42-AD42<0,"×","△"))) -> × | AE41: =IF(V27="","",V27) -> P | AH41: =COUNTIF(D41:AD41,"○")*3+COUNTIF(D41:AD41,"△") -> 8 | AK41: =SUM(D42,G42,J42,M42,P42,S42,V42,Y42,AB42)-SUM(F42,I42,L42,O42,R42,U42,X42,AA42,AD42) -> -11 | AN41: =SUM(D42,G42,J42,M42,P42,S42,V42,Y42,AB42) -> 10 | AQ41: =10000*AH41+100*AK41+AN41 -> 78910 | AT41: =RANK(AQ41,$AQ$29:$AQ$46) -> 6
A42: =IF(V28="","",V28) -> 彦成 | D42: =IF(X30="","",X30) -> 6 | E42: ― | F42: =IF(V30="","",V30) -> 1 | G42: =IF(X32="","",X32) -> 0 | H42: ― | I42: =IF(V32="","",V32) -> 5 | J42: =IF(X34="","",X34) -> 0 | K42: ― | L42: =IF(V34="","",V34) -> 0 | M42: =IF(X36="","",X36) -> 0 | N42: ― | O42: =IF(V36="","",V36) -> 5 | P42: =IF(X38="","",X38) -> 0 | Q42: ― | R42: =IF(V38="","",V38) -> 0 | S42: =IF(X40="","",X40) -> 4 | T42: ― | U42: =IF(V40="","",V40) -> 2 | V42: ＊ | W42: ＊ | X42: ＊ | Y42: 0 | Z42: ― | AA42: 5 | AB42: 0 | AC42: ― | AD42: 3 | AE42: =IF(V28="","",V28) -> 彦成
...

Sheet 事業案
I1: ２０２１年 月 日 改定 | L1: （月）
A2: ２０２１年度事業案 | L2: （火）
C3: 第２７回ドリーム･リ－グ Ｕ－１０ | L3: （水）
B4: 【日程】 | I4: 本部担当 | J4: 鍵開け | L4: （木）
B5: 第１節 | C5: 44303 | D5: =CHOOSE(WEEKDAY(C5,2),L$1,L$2,L$3,L$4,L$5,L$6,L$9) -> （土） | E5: Ａ Ｂ Ｃ Ｅ Ｆ Ｇ Ｈ Ｉ Ｌ Ｎ Ｏ Ｒ | I5: 事務局 | J5: 三郷 | L5: （金）
B6: 第２節 | C6: 44317 | D6: =CHOOSE(WEEKDAY(C6,2),L$1,L$2,L$3,L$4,L$5,L$6,L$9) -> （土） | E6: Ａ Ｂ Ｃ Ｄ Ｅ Ｆ Ｊ Ｋ Ｌ Ｍ Ｏ Ｐ | I6: 事務局 | J6: 三郷 | L6: （土）
B7: 第３節 | C7: 44331 | D7: =CHOOSE(WEEKDAY(C7,2),L$1,L$2,L$3,L$4,L$5,L$6,L$9) -> （土） | E7: Ｃ Ｄ Ｇ Ｈ Ｉ Ｊ Ｋ Ｎ Ｏ Ｐ Ｑ Ｒ | I7: 三郷 | J7: 三郷
B8: 第４節 | C8: 44345 | D8: =CHOOSE(WEEKDAY(C8,2),L$1,L$2,L$3,L$4,L$5,L$6,L$9) -> （土） | E8: Ｂ Ｅ Ｆ Ｇ Ｉ Ｌ Ｍ Ｎ Ｏ Ｐ Ｑ Ｒ | I8: 三郷 | J8: 三郷
C9: 44380 | D9: =CHOOSE(WEEKDAY(C9,2),L$1,L$2,L$3,L$4,L$5,L$6,L$9) -> （土） | E9: 中止 | I9: 事務局 | J9: 三郷 | L9: （日）
B10: 第５節 | C10: 44402 | D10: =CHOOSE(WEEKDAY(C10,2),L$1,L$2,L$3,L$4,L$5,L$6,L$9) -> （日） | E10: Ｂ Ｄ Ｆ Ｇ Ｈ Ｉ Ｊ Ｋ Ｍ Ｎ Ｏ Ｒ | I10: 事務局 | J10: 三郷
C11: 44459 | D11: =CHOOSE(WEEKDAY(C11,2),L$1,L$2,L$3,L$4,L$5,L$6,L$9) -> （月） | E11: 緊急事態宣言により中止 | J11: 三郷
C12: 44464 | D12: =CHOOSE(WEEKDAY(C12,2),L$1,L$2,L$3,L$4,L$5,L$6,L$9) -> （土） | E12: 緊急事態宣言により中止 | J12: 三郷
B13: 第６節 | C13: 44472 | D13: =CHOOSE(WEEKDAY(C13,2),L$1,L$2,L$3,L$4,L$5,L$6,L$9) -> （日） | E13: Ｃ Ｄ Ｅ Ｆ Ｇ Ｈ Ｉ Ｊ Ｋ Ｌ Ｏ Ｑ Ｒ | J13: 三郷
B14: 第７節 | C14: 44492 | D14: =CHOOSE(WEEKDAY(C14,2),L$1,L$2,L$3,L$4,L$5,L$6,L$9) -> （土） | E14: Ａ Ｄ Ｈ Ｉ Ｑ | J14: 三郷
B15: 第８節 | C15: 44499 | D15: =CHOOSE(WEEKDAY(C15,2),L$1,L$2,L$3,L$4,L$5,L$6,L$9) -> （土） | E15: B D F I K M N R | J15: 三郷
B16: 第９節 | C16: 44514 | D16: =CHOOSE(WEEKDAY(C16,2),L$1,L$2,L$3,L$4,L$5,L$6,L$9) -> （日） | E16: B D F G H I J M N O Q R | J16: 三郷
C17: 44548 | D17: =CHOOSE(WEEKDAY(C17,2),L$1,L$2,L$3,L$4,L$5,L$6,L$9) -> （土） | E17: 敢闘賞トーナメント | J17: 三郷
C18: 44549 | D18: =CHOOSE(WEEKDAY(C18,2),L$1,L$2,L$3,L$4,L$5,L$6,L$9) -> （日） | E18: 決勝トーナメント | J18: 三郷
C19: 44555 | D19: =CHOOSE(WEEKDAY(C19,2),L$1,L$2,L$3,L$4,L$5,L$6,L$9) -> （土） | E19: 各トーナメント予備日 | J19: 三郷
B21: ﾁｰﾑｺｰﾄﾞ | C21: チーム名 | E21: 本部担当 | G21: ﾁｰﾑｺｰﾄﾞ | H21: チーム名 | J21: 本部担当
B22: Ａ | C22: =参加チーム!F2 -> 草加東サッカー | G22: Ｊ | H22: =参加チーム!F11 -> 立花キッカーズ
B23: Ｂ | C23: =参加チーム!F3 -> 越谷ＦＣｊｒ | G23: Ｋ | H23: =参加チーム!F12 -> 桜井サッカー
B24: Ｃ | C24: =参加チーム!F4 -> 高砂イレブン | G24: Ｌ | H24: =参加チーム!F13 -> 越谷PCキッカーズ
B25: Ｄ | C25: =参加チーム!F5 -> 西町FC | G25: Ｍ | H25: =参加チーム!F14 -> FC北野
B26: Ｅ | C26: =参加チーム!F6 -> ホワイトシャーク | G26: Ｎ | H26: =参加チーム!F15 -> 南郷FC
B27: Ｆ | C27: =参加チーム!F7 -> 戸ヶ崎イレブン | G27: O | H27: =参加チーム!F16 -> つつみＦＣ
B28: Ｇ | C28: =参加チーム!F8 -> 桜サッカー | G28: Ｐ | H28: =参加チーム!F17 -> 彦成FC
B29: Ｈ | C29: =参加チーム!F9 -> 大相模サッカー | G29: Q | H29: =参加チーム!F18 -> 宮本サッカー
B30: I | C30: =参加チーム!F10 -> 越谷南FC | G30: R | H30: =参加チーム!F19 -> 三郷FCｊｒ
B32: 【本部担当へのお願い】
B33: １．試合実施判断：判断は三郷ＦＣｊｒが行い、携帯メール宛に連絡します。
C34: （連絡は当日不参加チームも送信します。）
C35: 雷は直ちに中止〔ノーゲーム〕となります。
B36: ２．部会倉庫鍵開け：今年度はすべて三郷ＦＣｊｒがおこないます。
B37: 但し三郷ＦＣが無理な場合、三郷市内少年団チームに部会倉庫の鍵開けをお願いする場合もあります。
B38: ※グランド準備については、参加チームのご協力をお願いします。（8：00 第２試合までの各チーム １名お願いします。）
B39: ３．試合実施推進：当日の試合実施推進をお願いします。
B40: 終了予定時間後、グランド使用予定が入っておりますので、ご注意下さい。
B41: ４．試合結果取り纏め：当日の試合結果を取りまとめて下さい。
B42: ５．試合結果連絡：当日の試合結果を取りまとめの上、試合後、２，３日中に、事務局（佐々木）まで
...

Sheet 出欠表
A1: 第２7回ドリームリーグ 出欠表
C2: 1節 | D2: ２節 | E2: ３節 | F2: ４節 | G2: ５節 | H2: ５節 | I2: ６節 | J2: ７節 | K2: ８節 | L2: ９節
C3: 44303 | D3: 44317 | E3: 44331 | F3: 44345 | G3: 44380 | H3: 44402 | I3: 44472 | J3: 44492 | K3: 44499 | L3: 44514
C4: =C3 -> 44303 | D4: =D3 -> 44317 | E4: =E3 -> 44331 | F4: =F3 -> 44345 | G4: =G3 -> 44380 | H4: =H3 -> 44402 | I4: =I3 -> 44472 | J4: =J3 -> 44492 | ... L4: =L3 -> 44514
A5: A | B5: 草加東 | C5: 〇 | D5: 〇 | E5: × | F5: × | G5: 中止 | H5: × | I5: × | J5: ○ | K5: × | L5: ×
A6: B | B6: 越谷FC | C6: 〇 | D6: 〇 | E6: 休み | F6: ○ | H6: 〇 | I6: 休み | J6: × | K6: ○ | L6: ○
A7: C | B7: 高砂 | C7: 〇 | D7: 〇 | E7: ○ | F7: × | H7: 休み | I7: 〇 | J7: ━ | K7: ━ | L7: ━
A8: D | B8: 西町 | C8: × | D8: 〇 | E8: ○ | F8: × | H8: 〇 | I8: 〇 | J8: ○ | K8: ○ | L8: ○
A9: E | B9: ホワイト | C9: 〇 | D9: 〇 | E9: 休み | F9: 〇 | H9: × | I9: 〇 | J9: × | K9: ━ | L9: ×
A10: F | B10: 戸ヶ崎 | C10: 〇 | D10: 〇 | E10: 休み | F10: 〇 | H10: 〇 | I10: 〇 | J10: × | K10: ○ | L10: ○
A11: G | B11: 桜 | C11: 〇 | D11: 休み | E11: 〇 | F11: 〇 | H11: 〇 | I11: 〇 | J11: × | K11: × | L11: ○
A12: H | B12: 大相模 | C12: 〇 | D12: × | E12: ○ | F12: 休み | H12: 〇 | I12: 〇 | J12: ○ | K12: × | L12: ○
A13: I | B13: 越谷南 | C13: 〇 | D13: 休み | E13: ○ | F13: ○ | H13: 〇 | I13: 〇 | J13: 〇 | K13: ○ | L13: ○
A14: J | B14: 立花 | C14: × | D14: 〇 | E14: 〇 | F14: 休み | H14: ○ | I14: ○ | J14: × | K14: × | L14: ○
A15: K | B15: 桜井 | C15: × | D15: 〇 | E15: 〇 | F15: 休み | H15: 〇 | I15: ○ | J15: × | K15: ○ | L15: ×
A16: L | B16: 越谷PC | C16: 〇 | D16: 〇 | E16: 休み | F16: 〇 | H16: 休み | I16: ○ | J16: × | K16: × | L16: ×
A17: M | B17: 北野 | C17: × | D17: 〇 | E17: × | F17: ○ | H17: 〇 | I17: × | J17: × | K17: ○ | L17: ○
... A22: R | B22: 三郷 | C22: 〇 | D22: 休み | E22: ○ | F22: ○ | H22: ○ | I22: ○ | J22: × | K22: ○ | L22: ○

Sheet 提出シート
A1: 健康チェックシート【提出用】
A2: チーム名 | E2: 代表者氏名
A4: 試合日 | C4: 年 月 日（ ）
A5: □試合当日に、全ての項目を記入し、本部へ提出をしてください。
A6: □参加の欄は、試合に参加する選手に○、体調に異常があり帰宅させた場合は×こ記入してください。
A7: № | B7: 氏名 | D7: 体 温 | G7: 参加
A8: 1 | B8: 選手 | D8: 時間 | E8: ： | F8: ℃
A9: 2 | B9: 選手 | D9: 時間 | E9: ： | F9: ℃
A10: 3 | B10: 選手 | D10: 時間 | E10: ： | F10: ℃
A11: 4 | B11: 選手 | D11: 時間 | E11: ： | F11: ℃
A12: 5 | B12: 選手 | D12: 時間 | E12: ： | F12: ℃
A13: 6 | B13: 選手 | D13: 時間 | E13: ： | F13: ℃
A14: 7 | B14: 選手 | D14: 時間 | E14: ： | F14: ℃
A15: 8 | B15: 選手 | D15: 時間 | E15: ： | F15: ℃
A16: 9 | B16: 選手 | D16: 時間 | E16: ： | F16: ℃
A17: 10 | B17: 選手 | D17: 時間 | E17: ： | F17: ℃
A18: 11 | B18: 選手 | D18: 時間 | E18: ： | F18: ℃
A19: 12 | B19: 選手 | D19: 時間 | E19: ： | F19: ℃
... A32: 25 | B32: 指導者 | D32: 時間 | E32: ： | F32: ℃
A34: 【チーム帯同指導者チェック項目】
A35: □帯同指導者は、下記内容を必ず確認してください。確認した内容には、○を記入してください。
A36: № | B36: チェック項目 | F36: チェック欄
A37: 1 | B37: 当日、平熱を超える発熱者がいない。
A38: 2 | B38: ４日前から、平熱を超える発熱者がいない。
A39: 3 | B39: 咳（せき）、のどの痛みなどの風邪症状がない。
A40: 4 | B40: 頭痛 ・ 腹痛などの症状がない。
A41: 5 | B41: 選手集合時に、各選手の体調に異常の有無を確認した。
A43: 記入者 | E43: 連絡先（携帯）
A45: ■この健康チェックシートは、一定の保管期間を設け、事務局にて廃棄いたします。
A46: 健康チェックシート【提出用】
A47: チーム名 | E47: 代表者氏名
A49: 試合日 | C49: 年 月 日（ ）
A50: □試合当日に、全ての項目を記入し、本部へ提出をしてください。
A51: □参加の欄は、試合に参加する選手に○、体調に異常があり帰宅させた場合は×こ記入してください。
A52: № | B52: 氏名 | D52: 体 温 | G52: 参加
A53: 26 | B53: 指導者 | D53: 時間 | E53: ： | F53: ℃
A54: 27 | B54: 指導者 | D54: 時間 | E54: ： | F54: ℃
A55: 28 | B55: 指導者 | D55: 時間 | E55: ： | F55: ℃
A56: 29 | B56: 指導者 | D56: 時間 | E56: ： | F56: ℃
A57: 30 | B57: 指導者 | D57: 時間 | E57: ： | F57: ℃
...

Sheet 参加チーム
C1: 成績表チーム | D1: 対戦表チーム | E1: 対戦表審判 | F1: チーム名
A2: 1 | B2: Ａ | C2: 草加東 | D2: A | E2: A | F2: 草加東サッカー
A3: 2 | B3: Ｂ | C3: 越谷FC | D3: B | E3: B | F3: 越谷ＦＣｊｒ
A4: 3 | B4: Ｃ | C4: 高砂 | D4: C | E4: C | F4: 高砂イレブン
A5: 4 | B5: Ｄ | C5: 西町 | D5: D | E5: D | F5: 西町FC
A6: 5 | B6: Ｅ | C6: ホワイト | D6: E | E6: E | F6: ホワイトシャーク
A7: 6 | B7: Ｆ | C7: 戸ヶ崎 | D7: F | E7: F | F7: 戸ヶ崎イレブン
A8: 7 | B8: Ｇ | C8: 桜 | D8: G | E8: G | F8: 桜サッカー
A9: 8 | B9: Ｈ | C9: 大相模 | D9: H | E9: H | F9: 大相模サッカー
A10: 9 | B10: Ｉ | C10: 越谷南 | D10: I | E10: I | F10: 越谷南FC
A11: 10 | B11: Ｊ | C11: 立花 | D11: J | E11: J | F11: 立花キッカーズ
A12: 11 | B12: Ｋ | C12: 桜井 | D12: K | E12: K | F12: 桜井サッカー
A13: 12 | B13: Ｌ | C13: 越谷PC | D13: L | E13: L | F13: 越谷PCキッカーズ
... A19: 18 | B19: R | C19: 三郷 | D19: R | E19: R | F19: 三郷FCｊｒ
F21: 三郷FCｊｒ
F22: 彦成FC
F23: 越谷南FC
F24: 西町FC
F25: 越谷ＦＣｊｒ
F26: 大相模サッカー
F27: ホワイトシャーク
F28: 桜サッカー
F29: 南郷FC
F30: 高砂イレブン
F31: FC北野
F32: 宮本サッカー
... F38: 立花キッカーズ
