Workbook

Sheet 表紙
C7: 第43回 三郷市スポーツ少年団
C8: 三郷市近隣市町少年サッカー大会
C33: 主 催： 三郷市スポーツ少年団
C35: 主 管： 三郷市スポーツ少年団サッカー部会
C37: 後 援： 三郷市・三郷市教育委員会・三郷市サッカー協会
C39: 期 日：2026年06月28日（日)・7月5日(日)/予備日07月12日（日)
C41: 会 場： 三郷スカイパーク多目的広場サッカー場

Sheet 大会要項
C1: 第43回 三郷市スポーツ少年団近隣市町少年サッカー大会
C3: 実 施 要 綱
B5: 1. 趣 旨 スポーツ少年団活動の活性化と地域交流の促進を図る為に近隣市町のサッカーチームを
C6: 招待し相互の健全な活動の普及を図る。
B8: 2. 主 催 三郷市スポーツ少年団
B10: 3. 主 管 三郷市スポーツ少年団サッカー部会
B12: 4. 後 援 三郷市・三郷市教育委員会・三郷市サッカー協会
B14: 5. 日 時 2026年06月28日（日)・7月5日(日)/予備日07月12日（日)
B16: a: | C16: 第一日目 | D16: 06月28日（日) 三郷スカイパーク 多目的広場サッカー場
D17: 第一試合開始:08時20分(予選リーグ戦)
C18: ＊開会式： | D18: 09時40分前後 （全チーム参加）
B20: b: | C20: 第二日目 | D20: 7月05日( 日) 三郷スカイパーク 多目的広場サッカー場
D21: 第一試合開始 8時20分(決勝・敢闘賞・ファイト賞の各トーナメント戦)
C22: ＊閉会式： | D22: 12時20分予定
D23: 当該試合及び審判担当をすでに終了チームは不参加可。
D24: 本部にお立ち寄り後解散して構いません。
C25: （予備日） | D25: ７月12日（日）
B28: 6. 会 場 三郷スカイパーク多目的広場サッカー場 (A/B/C/D面)
B30: 7. 対 象 小学生6年生以下で構成されたチームでスポーツ傷害保険に加入していること。
B32: 8. 参加費 5000円 (大会初日に受付に納入してください)
B34: 10. 競技規定
B36: A: | C36: ルールは本年度日本サッカー協会競技規定（08人制）に準ずる。
B37: B: | C37: 試合時間：予選リーグ・決勝/敢闘賞・ﾌｧｲﾄ賞トーナメント共に30分（15分－5分－15）
B38: C: | C38: 1チームの登録は16名以内とし選手交代については登録選手内での制限を設けない。
B39: D: | C39: 登録は大会初日にメンバー表を受付に提出のこと。
B40: E: | C40: 試合球は4号縫いボールとし、各チーム持ち寄りする(0.8気圧）チーム名記入のこと。
B41: F: | C41: 選手は必ず脛あてを着用し試合前に審判のチェックを受けること。
B42: G: | C42: ベンチへの指導者の人数は5名までとする。
B43: H: | C43: 退場を命じられた選手は、次の１試合は出場できない。警告を累積２回受けた選手も同様とする。
B44: I: | C44: １試合の選手交替は、登録選手内は制限なしとする。また１試合中で交代した選手の再出場を
C45: 認める。選手交替をする場合は、交代ゾーンからの自由交代。
C47: ◎ 予選リーグ戦
C48: 3チーム8ブロック（Ａ～H）による予選リーグ戦（参加チーム数24チーム） 順位は、勝点（勝3点、負0点、引分1点）で決定する。
C50: 勝ち点が同じ場合は、得失点差、総得点、当該試合、ＰＫ戦の順で決定する。
C51: 各ブロック1位チームが決勝トーナメント戦・2位チームが敢闘賞トーナメント・3位チームはファイト賞
C52: へそれぞれ進出する。
C54: ◎ 決勝・敢闘賞・ﾌｧｲﾄ賞各ﾄｰﾅﾒﾝﾄ戦
C55: 優勝決定戦・3位決定戦・敢闘賞・ファイト賞のトーナメント戦は全て延長戦なしのPK戦で決する。
C56: 尚、フレンドリィー戦は行わない
B59: 11. 表 彰
C60: ◎優 勝 | E60: 優勝カップ(持ち回り)・メダル授与（16名まで）・賞状授与
C61: ◎準優勝・第三位 | E61: トロフィー・メダル授与（16名まで）・賞状授与
C62: ◎第4位 | E62: トロフィー・賞状授与
C63: ◎敢闘賞1位 | E63: トロフィー・賞状授与
C64: ◎ファイト賞1位 | E64: トロフィー・賞状授与
C65: ◎優秀選手賞 | E65: メダル授与（各チームより１名選出）
C66: ◎参加賞 | E66: 各チーム（参加人数）
B68: 12. 審 判
C69: ◎主審、副審共に正規審判服を着用してください。（審判携帯・備品等持参のこと） ◎予選リーグ ・審判割り当ての通りに実施し主審・副審は担当チームにて協議し行うものとする。 ◎決勝・敢闘賞・ファイト賞トーナメント ・審判割り当ての通りに実施し主審・副審は担当チームにて協議し行うものとする。 （優勝決定戦及び3位各決定戦は本部。ほか各決定戦は割り当てチームにて担当） ◎審判打ち合わせ 主審・副審は、担当する試合開始の10分前に本部に集合し、審判打ち合わせ 及び確認を行って下さい。 ◎帯同審判不在又は審判が出来ないチームは必ず事前に本部に申し出て下さい。
B80: 12.駐車場
C81: ☆施設開門は7時15分以降となりますのでそれ以前の入場はできません
C82: 三郷スカイパークにおいては各チームに対して4台分の駐車表を発行し駐車スペースを
C83: 確保します。（2F駐車場4台予定） なお、１F駐車場は駐車表提示なしでの駐車を可とします。
C84: 駐車の際は係りの者の指示に従い駐車をするようお願いたします。
C85: 駐車表は本大会2日間使用しますので紛失の無い様にお願いいたします。
C86: また、近隣の市民体育館の駐車場も大会駐車表の掲示をせず利用可能です。
B88: 13.その他注意事項
B89: 1: | C89: 来場時には受付を済ませ、開会式には必ず出席して下さい。又、全試合終了後は必ず本部へ お立寄り下さい。（大会2日目は優秀選手賞授与があります）
B91: 2： | C91: 試合時間の変更（ＰＫ戦等による時間延長）を承知の上、準備して下さい。又、スムーズな試合運営に各チームのご協力をお願い致します。 テントの準備はないので、日除けについては各チームで用意をお願い致します。
B93: 3：
B94: 4： | C94: 写真撮影は肖像権・プライバシー侵害となりますのでおやめください。尚、参加チームの承諾を
C95: 得た場合にはその限りではありませんが、本部として仲介は致しません。
B96: 5： | C96: 万一事故または傷病などが発生した場合はチームの責任にて対応をお願いします。
B97: 6： | C97: 敷地内は火気厳禁です！コンロ等での湯沸しについては一切禁止とします。 また、ゴミは必ずお持ち帰りください。
B99: 7： | C99: 運動施設内は車内であっても禁煙です。また、施設出入り口での喫煙なども
C100: 吸い殻・空き缶などごみを捨てる方が多く今後の施設利用に多大な支障をきたしますので
C101: 節度のある行動をお願いいたします。
B102: 8： | C102: サッカーボールなどが外周フェンス外に落ちた場合は、回収までに日数がかかります 後日施設の管理事務所に各自問い合わせください。
B104: 9： | C104: 各チームは選手・審判に対して熱中症対策を講じる義務を有す。
C106: トラブルを避ける為、後から応援にこられる方々に注意点など各チームの責任にて 周知徹底をお願いいたします。

Sheet 参加チーム一覧
C1: 第43回 三郷市近隣市町杯サッカー大会参加チーム一覧
I4: （参加地区順）
C5: チーム名称 | H5: 参加地区
B6: 1 | C6: 千寿常東小学校SC | H6: 東京都足立区
B8: 2 | C8: 南千住ｻｯｶｰ広場ｽﾎﾟｰﾂ少年団 | H8: 東京都荒川区
B10: 3 | C10: FC春江 | H10: 東京都江戸川区
B12: 4 | C12: 幸田ジュニアFC | H12: 東京都葛飾区
B14: 5 | C14: 南綾瀬フットボールクラブ | H14: 東京都葛飾区
B16: 6 | C16: フットボールクラブ北野 | H16: 東京都葛飾区
B18: 7 | C18: 松戸旭サッカークラブ | H18: 千葉県松戸市
B20: 8 | C20: 南浦和サッカー少年団 | H20: 埼玉県さいたま市
B22: 9 | C22: 浦和中尾ｻｯｶｰｽﾎﾟｰﾂ少年団 | H22: 埼玉県さいたま市
B24: 10 | C24: 上沖サッカークラブ | H24: 埼玉県春日部市
B26: 11 | C26: 越谷PCｷｯｶｰｽﾞｽﾎﾟｰﾂ少年団 | H26: 埼玉県越谷市
B28: 12 | C28: 宮本ｻｯｶｰｽﾎﾟｰﾂ少年団 | H28: 埼玉県越谷市
... B52: 24 | C52: 早稲田つつみＦＣスポーツ少年団 | H52: 埼玉県三郷市

Sheet メンバー表・優秀選手表
B1: 第43回 三郷市スポーツ少年団近隣市町少年サッカー大会 メンバー表
B2: チ ー ム 名 | J2: 市町村名
B3: 代表者氏名 | G3: 連絡先氏名 | L3: 携帯
B4: ユニフォーム | D4: シャツ | E4: ショーツ | G4: ストッキング | J4: シャツ | L4: ショーツ | N4: ストッキング
C5: FP | I5: 副
C6: GK | I6: 副
C7: 背番号 | D7: 位置 | E7: フ リ ガ ナ | I7: 学年 | J7: 備考
E8: 選 手 氏 名
B9: 1
B11: 2
B13: 3
B15: 4
B17: 5
B19: 6
B21: 7
B23: 8
B25: 9
B27: 10
B29: 11
B31: 12
... B39: 16
E49: 【優秀選手賞】
D53: チーム名
D55: （フリガナ）
D56: 選手氏名
D59: 大会2日目に本部に提出をお願いします。

Sheet 予選ブロック表
B1: 第43回 三郷市スポーツ少年団近隣市町少年サッカー大会予選リーグ対戦表
B3: Aブロック | C3: =B4 -> 草加東 | D3: =B5 -> FC春江 | E3: =B6 -> 宮本 | F3: 勝ち点 | G3: 得失点 | H3: 総得点 | I3: 順位
B4: 草加東
B5: FC春江
B6: 宮本
B8: Ｂブロック | C8: =B9 -> 武蔵野 | D8: =(B10) -> つつみ | E8: =B11 -> 南千住 | F8: 勝ち点 | G8: 得失点 | H8: 総得点 | I8: 順位
B9: 武蔵野
B10: つつみ
B11: 南千住
B13: Ｃブロック | C13: =B14 -> 越谷FC | D13: =B15 -> 幸田 | E13: =B16 -> 千寿常東 | F13: 勝ち点 | G13: 得失点 | H13: 総得点 | I13: 順位
B14: 越谷FC
B15: 幸田
B16: 千寿常東
B18: Ｄブロック | C18: =B19 -> 蒲生東 | D18: =B20 -> 三郷 | E18: =B21 -> ガナドール | F18: 勝ち点 | G18: 得失点 | H18: 総得点 | I18: 順位
B19: 蒲生東
B20: 三郷
B21: ガナドール
B23: Ｅブロック | C23: =B24 -> 浦和中尾 | D23: =B25 -> 南郷 | E23: =B26 -> 南浦和 | F23: 勝ち点 | G23: 得失点 | H23: 総得点 | I23: 順位
B24: 浦和中尾
B25: 南郷
B26: 南浦和
B28: Ｆブロック | C28: =B29 -> FC北野 | D28: =B30 -> 越谷PC | E28: =B31 -> 松戸旭 | F28: 勝ち点 | G28: 得失点 | H28: 総得点 | I28: 順位
B29: FC北野
B30: 越谷PC
B31: 松戸旭
B33: Gブロック | C33: =B34 -> リバティー | D33: =B35 -> 戸ヶ崎 | E33: =B36 -> 南綾瀬 | F33: 勝ち点 | G33: 得失点 | H33: 総得点 | I33: 順位
B34: リバティー
B35: 戸ヶ崎
B36: 南綾瀬
B38: Hブロック | C38: =B39 -> 上沖 | D38: =B40 -> 桜 | E38: =B41 -> 大袋 | F38: 勝ち点 | G38: 得失点 | H38: 総得点 | I38: 順位
B39: 上沖
B40: 桜
B41: 大袋

Sheet スケジュール・担当審判表
B1: 第43回 三郷市スポーツ少年団近隣市町少年サッカー大会予選リーグ対戦表(審判割り当て表）
D2: Ａ面 | G2: B面 | J2: C面 | M2: D面
C3: 時間 | D3: 対戦 | F3: 審判 | G3: 対戦 | I3: 審判 | J3: 対戦 | L3: 審判 | M3: 対戦 | O3: 審判
B4: 1 | C4: 0.34722222 | D4: =ASC([1]予選リーグ!C3) -> 草加東 | E4: =ASC([1]予選リーグ!D3) -> FC春江 | F4: =ASC(D6) -> 武蔵野 | G4: =ASC([1]予選リーグ!C13) -> 越谷FC | H4: =ASC([1]予選リーグ!D13) -> 幸田 | I4: =ASC(G6) -> 蒲生東 | J4: =ASC([1]予選リーグ!C23) -> 浦和中尾 | K4: =ASC([1]予選リーグ!D23) -> 南郷 | L4: =ASC(J6) -> FC北野 | M4: =ASC([1]予選リーグ!C33) -> ﾘﾊﾞﾃｨｰ | N4: =ASC([1]予選リーグ!D33) -> 戸ヶ崎 | O4: =ASC(M6) -> 上沖
F5: =ASC(E6) -> つつみ | I5: =ASC(H6) -> 三郷 | L5: =ASC(K6) -> 越谷PC | O5: =ASC(N6) -> 桜
B6: 2 | C6: 0.375 | D6: =ASC([1]予選リーグ!C8) -> 武蔵野 | E6: =ASC([1]予選リーグ!D8) -> つつみ | F6: =ASC(D4) -> 草加東 | G6: =ASC([1]予選リーグ!C18) -> 蒲生東 | H6: =ASC([1]予選リーグ!D18) -> 三郷 | I6: =ASC(G4) -> 越谷FC | J6: =ASC([1]予選リーグ!C28) -> FC北野 | K6: =ASC([1]予選リーグ!D28) -> 越谷PC | L6: =ASC(J4) -> 浦和中尾 | M6: =ASC([1]予選リーグ!C38) -> 上沖 | N6: =ASC([1]予選リーグ!D38) -> 桜 | O6: =ASC(M4) -> ﾘﾊﾞﾃｨｰ
F7: =ASC(E4) -> FC春江 | I7: =ASC(H4) -> 幸田 | L7: =ASC(K4) -> 南郷 | O7: =ASC(N4) -> 戸ヶ崎
C8: 0.40277778 | D8: 開会式
B9: 3 | C9: 0.41666667 | D9: =ASC([1]予選リーグ!C3) -> 草加東 | E9: =ASC([1]予選リーグ!E3) -> 宮本 | F9: =ASC(D11) -> 武蔵野 | G9: =ASC([1]予選リーグ!C13) -> 越谷FC | H9: =ASC([1]予選リーグ!E13) -> 千寿常東 | I9: =ASC(G11) -> 蒲生東 | J9: =ASC([1]予選リーグ!C23) -> 浦和中尾 | K9: =ASC([1]予選リーグ!E23) -> 南浦和 | L9: =ASC(J11) -> FC北野 | M9: =ASC([1]予選リーグ!C33) -> ﾘﾊﾞﾃｨｰ | N9: =ASC([1]予選リーグ!E33) -> 南綾瀬 | O9: =ASC(M11) -> 上沖
F10: =ASC(E11) -> 南千住 | I10: =ASC(H11) -> ｶﾞﾅﾄﾞｰﾙ | L10: =ASC(K11) -> 松戸旭 | O10: =ASC(N11) -> 大袋
B11: 4 | C11: 0.44444444 | D11: =ASC([1]予選リーグ!C8) -> 武蔵野 | E11: =ASC([1]予選リーグ!E8) -> 南千住 | F11: =ASC(D9) -> 草加東 | G11: =ASC([1]予選リーグ!C18) -> 蒲生東 | H11: =ASC([1]予選リーグ!E18) -> ｶﾞﾅﾄﾞｰﾙ | I11: =ASC(G9) -> 越谷FC | J11: =ASC([1]予選リーグ!C28) -> FC北野 | K11: =ASC([1]予選リーグ!E28) -> 松戸旭 | L11: =ASC(J9) -> 浦和中尾 | M11: =ASC([1]予選リーグ!C38) -> 上沖 | N11: =ASC([1]予選リーグ!E38) -> 大袋 | O11: =ASC(M9) -> ﾘﾊﾞﾃｨｰ
F12: =ASC(E9) -> 宮本 | I12: =ASC(H9) -> 千寿常東 | L12: =ASC(K9) -> 南浦和 | O12: =ASC(N9) -> 南綾瀬
B13: 5 | C13: 0.47222222 | D13: =ASC([1]予選リーグ!D3) -> FC春江 | E13: =ASC([1]予選リーグ!E3) -> 宮本 | F13: =ASC(D15) -> つつみ | G13: =ASC([1]予選リーグ!D13) -> 幸田 | H13: =ASC([1]予選リーグ!E13) -> 千寿常東 | I13: =ASC(G15) -> 三郷 | J13: =ASC([1]予選リーグ!D23) -> 南郷 | K13: =ASC([1]予選リーグ!E23) -> 南浦和 | L13: =ASC(J15) -> 越谷PC | M13: =ASC([1]予選リーグ!D33) -> 戸ヶ崎 | N13: =ASC([1]予選リーグ!E33) -> 南綾瀬 | O13: =ASC(M15) -> 桜
F14: =ASC(E15) -> 南千住 | I14: =ASC(H15) -> ｶﾞﾅﾄﾞｰﾙ | L14: =ASC(K15) -> 松戸旭 | O14: =ASC(N15) -> 大袋
B15: 6 | C15: 0.5 | D15: =ASC([1]予選リーグ!D8) -> つつみ | E15: =ASC([1]予選リーグ!E8) -> 南千住 | F15: =ASC(D13) -> FC春江 | G15: =ASC([1]予選リーグ!D18) -> 三郷 | H15: =ASC([1]予選リーグ!E18) -> ｶﾞﾅﾄﾞｰﾙ | I15: =ASC(G13) -> 幸田 | J15: =ASC([1]予選リーグ!D28) -> 越谷PC | K15: =ASC([1]予選リーグ!E28) -> 松戸旭 | L15: =ASC(J13) -> 南郷 | M15: =ASC([1]予選リーグ!D38) -> 桜 | N15: =ASC([1]予選リーグ!E38) -> 大袋 | O15: =ASC(M13) -> 戸ヶ崎
F16: =ASC(E13) -> 宮本 | I16: =ASC(H13) -> 千寿常東 | L16: =ASC(K13) -> 南浦和 | O16: =ASC(N13) -> 南綾瀬
D18: 注：第一試合の審判担当チームは忘れがちです注意してください。＊主審・副審は各チームで打ち合わせて決めてください

Sheet 各ﾄｰﾅﾒﾝﾄ表
F1: 第43回三郷市スポーツ少年団近隣市町少年サッカー大会各トーナメント戦
O4: 優勝決定戦 | AU4: 敢闘賞決定戦 | CA4: ファイト賞決定戦
T6: 優勝
AD7: 準優勝
S13: ３位決定戦
L24: 優 | M24: ⑤ | AB24: 優 | AC24: ⑥ | AR24: 敢 | AS24: ⑤ | BH24: 敢 | BI24: ⑥ | BX24: ﾌｧ | BY24: ⑤ | CN24: ﾌｧ | CO24: ⑥
H32: 優 | I32: ① | P32: 優 | Q32: ② | X32: 優 | Y32: ③ | AF32: 優 | AG32: ④ | AN32: 敢 | AO32: ① | AV32: 敢 | AW32: ② | BD32: 敢 | BE32: ③ | BL32: 敢 | BM32: ④ | BT32: ﾌｧ | BU32: ① | CB32: ﾌｧ | CC32: ② | CJ32: ﾌｧ | CK32: ③ | CR32: ﾌｧ | CS32: ④
F33: A | J33: H | N33: B | R33: G | V33: C | Z33: F | AD33: D | AH33: E | AL33: A | AP33: H | AT33: B | AX33: G | BB33: C | BF33: F | BJ33: D | BN33: E | BR33: A | BV33: H | BZ33: B | CD33: G | CH33: C | CL33: F | CP33: D | CT33: E
F34: １位 | J34: １位 | N34: １位 | R34: １位 | V34: １位 | Z34: １位 | AD34: １位 | AH34: １位 | AL34: ２位 | AP34: ２位 | AT34: ２位 | AX34: ２位 | BB34: ２位 | BF34: ２位 | BJ34: ２位 | BN34: ２位 | BR34: ３位 | BV34: ３位 | BZ34: ３位 | CD34: ３位 | CH34: ３位 | CL34: ３位 | CP34: ３位 | CT34: ３位

Sheet ﾄｰﾅﾒﾝﾄｽｹｼﾞｭｰﾙ・担当審判表
C1: 第43回三郷市スポーツ少年団近隣市町少年サッカー大会各トーナメント戦
C3: Ａ面 | G3: B面 | K3: C面 | O3: D面
B4: 時間 | C4: 対戦 | F4: 審判 | G4: 対戦 | J4: 審判 | K4: 対戦 | N4: 審判 | O4: 対戦 | R4: 審判
A5: 1 | B5: 0.34722222 | C5: A3 | D5: ファ ① | E5: H3 | F5: A1 | G5: B3 | H5: ファ ② | I5: G3 | J5: B1 | K5: C3 | L5: ファ ③ | M5: F3 | N5: C1 | O5: D3 | P5: ファ ④ | Q5: E3 | R5: D1
F6: H1 | J6: G1 | N6: F1 | R6: E1
A7: 2 | B7: 0.375 | C7: A2 | D7: 敢 ① | E7: H2 | F7: A3 | G7: B2 | H7: 敢 ② | I7: G2 | J7: B3 | K7: C2 | L7: 敢 ③ | M7: F2 | N7: C3 | O7: D2 | P7: 敢 ④ | Q7: E2 | R7: D3
F8: H3 | J8: G3 | N8: F3 | R8: E3
A9: 3 | B9: 0.40277778 | C9: A1 | D9: 優 ① | E9: H1 | F9: A2 | G9: B1 | H9: 優 ② | I9: G1 | J9: B2 | K9: C1 | L9: 優 ③ | M9: F1 | N9: C2 | O9: D1 | P9: 優 ④ | Q9: E1 | R9: D2
F10: H2 | J10: G2 | N10: F2 | R10: E2
A11: 4 | B11: 0.43055556 | D11: ファ ⑤ | F11: ファ①負け | H11: ファ ⑥ | J11: ファ③負け | L11: 敢 ⑤ | N11: 勘①負け | P11: 敢 ⑥ | R11: 勘③負け
F12: ファ②負け | J12: ファ④負け | N12: 勘②負け | R12: 勘④負け
A13: 5 | B13: 0.45833333 | H13: 優 ⑤ | J13: 優①負け | L13: 優 ⑥ | N13: 優③負け
J14: 優②負け | N14: 優④負け
A15: 6 | B15: 0.5 | D15: 敢闘賞 | F15: 勘⑤・⑥ 負けチーム より主審副審を選出 | H15: 3位決定戦 | J15: 本部 | L15: 優勝決定戦 | N15: 本部 | P15: ファイト賞 | R15: ファ⑤・⑥ 負けチーム より主審副審を選出
J16: 本部 | N16: 本部
A17: 0.52777778 | C17: 閉会式/表彰式
C18: 注：第一試合の審判担当チームは忘れがちです注意してください。＊主審・副審は各チームで打ち合わせて決めてください また、閉会式前に退場されるチームは審判担当を確認してください。

Sheet 駐車表
A18: チーム名 | O18: チーム名
B31: 2F | J31: １/4 | P31: 2F | X31: 3/4
A56: チーム名 | O56: チーム名
B69: 2F | J69: 2/4 | P69: 2F | X69: 4/4
